BEGIN:VCALENDAR
VERSION:2.0
PRODID:-//Stibon - ECPv6.11.2//NONSGML v1.0//EN
CALSCALE:GREGORIAN
METHOD:PUBLISH
X-ORIGINAL-URL:https://stibon.nl
X-WR-CALDESC:Evenementen voor Stibon
REFRESH-INTERVAL;VALUE=DURATION:PT1H
X-Robots-Tag:noindex
X-PUBLISHED-TTL:PT1H
BEGIN:VTIMEZONE
TZID:Europe/Amsterdam
BEGIN:DAYLIGHT
TZOFFSETFROM:+0100
TZOFFSETTO:+0200
TZNAME:CEST
DTSTART:20230326T010000
END:DAYLIGHT
BEGIN:STANDARD
TZOFFSETFROM:+0200
TZOFFSETTO:+0100
TZNAME:CET
DTSTART:20231029T010000
END:STANDARD
END:VTIMEZONE
BEGIN:VEVENT
DTSTART;TZID=Europe/Amsterdam:20231128T183000
DTEND;TZID=Europe/Amsterdam:20231128T223000
DTSTAMP:20260421T042753
CREATED:20230723T121214Z
LAST-MODIFIED:20230723T121328Z
UID:14498-1701196200-1701210600@stibon.nl
SUMMARY:Les 6: Bier aan tafel
DESCRIPTION:Docent: Derek Walsh
URL:https://stibon.nl/event/docent-bas-schampers/
LOCATION:Café de Gezelliheid\, Gasthuisplein 11 \, Zwolle\, 8011 SB\, Nederland
CATEGORIES:StiBON Bierambassadeur 1,Zwolle
ATTACH;FMTTYPE=image/png:https://stibon.nl/app/uploads/2020/04/Derek-204x174-1.png
END:VEVENT
END:VCALENDAR