BEGIN:VCALENDAR
VERSION:2.0
PRODID:-//Stibon - ECPv6.11.2//NONSGML v1.0//EN
CALSCALE:GREGORIAN
METHOD:PUBLISH
X-WR-CALNAME:Stibon
X-ORIGINAL-URL:https://stibon.nl
X-WR-CALDESC:Evenementen voor Stibon
REFRESH-INTERVAL;VALUE=DURATION:PT1H
X-Robots-Tag:noindex
X-PUBLISHED-TTL:PT1H
BEGIN:VTIMEZONE
TZID:Europe/Amsterdam
BEGIN:DAYLIGHT
TZOFFSETFROM:+0100
TZOFFSETTO:+0200
TZNAME:CEST
DTSTART:20230326T010000
END:DAYLIGHT
BEGIN:STANDARD
TZOFFSETFROM:+0200
TZOFFSETTO:+0100
TZNAME:CET
DTSTART:20231029T010000
END:STANDARD
END:VTIMEZONE
BEGIN:VEVENT
DTSTART;TZID=Europe/Amsterdam:20230919T183000
DTEND;TZID=Europe/Amsterdam:20230919T223000
DTSTAMP:20260421T072407
CREATED:20230720T130000Z
LAST-MODIFIED:20230720T153826Z
UID:14463-1695148200-1695162600@stibon.nl
SUMMARY:Les 1: Theorie en praktijk van het proeven
DESCRIPTION:Docent: Yu Mey Kwee
URL:https://stibon.nl/event/les-1-theorie-en-praktijk-van-het-proeven-32/
LOCATION:Café de Gezelliheid\, Gasthuisplein 11 \, Zwolle\, 8011 SB\, Nederland
CATEGORIES:StiBON Bierambassadeur 1,Zwolle
ATTACH;FMTTYPE=image/jpeg:https://stibon.nl/app/uploads/2020/04/Brand-1-204x174-1.jpg
END:VEVENT
BEGIN:VEVENT
DTSTART;TZID=Europe/Amsterdam:20231003T183000
DTEND;TZID=Europe/Amsterdam:20231003T223000
DTSTAMP:20260421T072407
CREATED:20230723T120255Z
LAST-MODIFIED:20230723T120255Z
UID:14490-1696357800-1696372200@stibon.nl
SUMMARY:Les 2: Grondstoffen\, wetgeving en sociale hygiëne
DESCRIPTION:Docent: Do Bongers
URL:https://stibon.nl/event/les-2-grondstoffen-wetgeving-en-sociale-hygiene-36/
LOCATION:Café de Gezelliheid\, Gasthuisplein 11 \, Zwolle\, 8011 SB\, Nederland
CATEGORIES:StiBON Bierambassadeur 1,Zwolle
ATTACH;FMTTYPE=image/jpeg:https://stibon.nl/app/uploads/2021/08/Do-Bongers-200x200-1.jpg
END:VEVENT
BEGIN:VEVENT
DTSTART;TZID=Europe/Amsterdam:20231017T183000
DTEND;TZID=Europe/Amsterdam:20231017T223000
DTSTAMP:20260421T072407
CREATED:20230723T120521Z
LAST-MODIFIED:20230723T120521Z
UID:14492-1697567400-1697581800@stibon.nl
SUMMARY:Les 3: Historie\, trends en bier & gezondheid
DESCRIPTION:Docent: Gijs Troost
URL:https://stibon.nl/event/les-3-historie-trends-en-bier-gezondheid-32/
LOCATION:Café de Gezelliheid\, Gasthuisplein 11 \, Zwolle\, 8011 SB\, Nederland
CATEGORIES:StiBON Bierambassadeur 1,Zwolle
ATTACH;FMTTYPE=image/jpeg:https://stibon.nl/app/uploads/2020/04/GijsTroost2-1-204x174-1.jpg
END:VEVENT
BEGIN:VEVENT
DTSTART;TZID=Europe/Amsterdam:20231031T183000
DTEND;TZID=Europe/Amsterdam:20231031T223000
DTSTAMP:20260421T072407
CREATED:20230723T120743Z
LAST-MODIFIED:20231023T093927Z
UID:14494-1698777000-1698791400@stibon.nl
SUMMARY:Les 4: Brouwproces
DESCRIPTION:Docent: JoepJan Van Hernen en Gijs Troost
URL:https://stibon.nl/event/les-4-brouwproces-36/
LOCATION:Brouwerij Avereest\, Langewijk 240 b \, Dedemsvaart\, 7701 AM
CATEGORIES:StiBON Bierambassadeur 1,Zwolle
ATTACH;FMTTYPE=image/jpeg:https://stibon.nl/app/uploads/2023/07/Avereest.jpeg
END:VEVENT
BEGIN:VEVENT
DTSTART;TZID=Europe/Amsterdam:20231114T183000
DTEND;TZID=Europe/Amsterdam:20231114T223000
DTSTAMP:20260421T072407
CREATED:20230723T120943Z
LAST-MODIFIED:20230723T120943Z
UID:14496-1699986600-1700001000@stibon.nl
SUMMARY:Les 5: Bierbehandeling en opslag
DESCRIPTION:Docent: Bas Schampers
URL:https://stibon.nl/event/les-5-bierbehandeling-en-opslag-34/
LOCATION:Café de Gezelliheid\, Gasthuisplein 11 \, Zwolle\, 8011 SB\, Nederland
CATEGORIES:StiBON Bierambassadeur 1,Zwolle
ATTACH;FMTTYPE=image/jpeg:https://stibon.nl/app/uploads/2020/07/Bas-e1623068357344.jpg
END:VEVENT
BEGIN:VEVENT
DTSTART;TZID=Europe/Amsterdam:20231128T183000
DTEND;TZID=Europe/Amsterdam:20231128T223000
DTSTAMP:20260421T072407
CREATED:20230723T121214Z
LAST-MODIFIED:20230723T121328Z
UID:14498-1701196200-1701210600@stibon.nl
SUMMARY:Les 6: Bier aan tafel
DESCRIPTION:Docent: Derek Walsh
URL:https://stibon.nl/event/docent-bas-schampers/
LOCATION:Café de Gezelliheid\, Gasthuisplein 11 \, Zwolle\, 8011 SB\, Nederland
CATEGORIES:StiBON Bierambassadeur 1,Zwolle
ATTACH;FMTTYPE=image/png:https://stibon.nl/app/uploads/2020/04/Derek-204x174-1.png
END:VEVENT
END:VCALENDAR