BEGIN:VCALENDAR
VERSION:2.0
PRODID:-//Stibon - ECPv6.11.2//NONSGML v1.0//EN
CALSCALE:GREGORIAN
METHOD:PUBLISH
X-WR-CALNAME:Stibon
X-ORIGINAL-URL:https://stibon.nl
X-WR-CALDESC:Evenementen voor Stibon
REFRESH-INTERVAL;VALUE=DURATION:PT1H
X-Robots-Tag:noindex
X-PUBLISHED-TTL:PT1H
BEGIN:VTIMEZONE
TZID:Europe/Amsterdam
BEGIN:DAYLIGHT
TZOFFSETFROM:+0100
TZOFFSETTO:+0200
TZNAME:CEST
DTSTART:20230326T010000
END:DAYLIGHT
BEGIN:STANDARD
TZOFFSETFROM:+0200
TZOFFSETTO:+0100
TZNAME:CET
DTSTART:20231029T010000
END:STANDARD
END:VTIMEZONE
BEGIN:VEVENT
DTSTART;TZID=Europe/Amsterdam:20230919T183000
DTEND;TZID=Europe/Amsterdam:20230919T223000
DTSTAMP:20260421T040537
CREATED:20230720T130000Z
LAST-MODIFIED:20230720T153826Z
UID:14463-1695148200-1695162600@stibon.nl
SUMMARY:Les 1: Theorie en praktijk van het proeven
DESCRIPTION:Docent: Yu Mey Kwee
URL:https://stibon.nl/event/les-1-theorie-en-praktijk-van-het-proeven-32/
LOCATION:Café de Gezelliheid\, Gasthuisplein 11 \, Zwolle\, 8011 SB\, Nederland
CATEGORIES:StiBON Bierambassadeur 1,Zwolle
ATTACH;FMTTYPE=image/jpeg:https://stibon.nl/app/uploads/2020/04/Brand-1-204x174-1.jpg
END:VEVENT
END:VCALENDAR