BEGIN:VCALENDAR
VERSION:2.0
PRODID:-//Stibon - ECPv6.11.2//NONSGML v1.0//EN
CALSCALE:GREGORIAN
METHOD:PUBLISH
X-ORIGINAL-URL:https://stibon.nl
X-WR-CALDESC:Evenementen voor Stibon
REFRESH-INTERVAL;VALUE=DURATION:PT1H
X-Robots-Tag:noindex
X-PUBLISHED-TTL:PT1H
BEGIN:VTIMEZONE
TZID:Europe/Amsterdam
BEGIN:DAYLIGHT
TZOFFSETFROM:+0100
TZOFFSETTO:+0200
TZNAME:CEST
DTSTART:20210328T010000
END:DAYLIGHT
BEGIN:STANDARD
TZOFFSETFROM:+0200
TZOFFSETTO:+0100
TZNAME:CET
DTSTART:20211031T010000
END:STANDARD
BEGIN:DAYLIGHT
TZOFFSETFROM:+0100
TZOFFSETTO:+0200
TZNAME:CEST
DTSTART:20220327T010000
END:DAYLIGHT
BEGIN:STANDARD
TZOFFSETFROM:+0200
TZOFFSETTO:+0100
TZNAME:CET
DTSTART:20221030T010000
END:STANDARD
END:VTIMEZONE
BEGIN:VEVENT
DTSTART;TZID=Europe/Amsterdam:20210623T183000
DTEND;TZID=Europe/Amsterdam:20210623T220000
DTSTAMP:20260423T003045
CREATED:20200703T142530Z
LAST-MODIFIED:20210609T134214Z
UID:1977-1624473000-1624485600@stibon.nl
SUMMARY:Les 10: Bier aan tafel.
DESCRIPTION:Docenten: Henri Reuchlin en Arvid Bergström.
URL:https://stibon.nl/event/les-10-bier-aan-tafel-bier-in-de-keuken-3/
LOCATION:Gulpener Brouwlokaal\, Rijksweg 19A\, Gulpen\, 6271AB
CATEGORIES:Gulpen,StiBON Bierambassadeur 2
ATTACH;FMTTYPE=image/jpeg:https://stibon.nl/app/uploads/2020/04/Arvid-Bergstrom1-204x174-1.jpg
END:VEVENT
BEGIN:VEVENT
DTSTART;TZID=Europe/Amsterdam:20210624T090000
DTEND;TZID=Europe/Amsterdam:20210624T170000
DTSTAMP:20260423T003045
CREATED:20200703T142719Z
LAST-MODIFIED:20210316T124904Z
UID:1979-1624525200-1624554000@stibon.nl
SUMMARY:Les 7: Brouwen van het StiBON bier.
DESCRIPTION:Docenten: Bas Jacobs en Jan Wolfs.
URL:https://stibon.nl/event/les-7-brouwen-van-het-stibon-bier-3/
LOCATION:Gulpener Brouwlokaal\, Rijksweg 19A\, Gulpen\, 6271AB
CATEGORIES:Gulpen,StiBON Bierambassadeur 2
END:VEVENT
BEGIN:VEVENT
DTSTART;TZID=Europe/Amsterdam:20210625T090000
DTEND;TZID=Europe/Amsterdam:20210625T130000
DTSTAMP:20260423T003045
CREATED:20200703T143325Z
LAST-MODIFIED:20210617T113355Z
UID:1984-1624611600-1624626000@stibon.nl
SUMMARY:Les 11: Bierproeverijen.
DESCRIPTION:Docent: Rick Kempen
URL:https://stibon.nl/event/les-11-bierproeverijen-3/
LOCATION:Café Charlemagne\, Maastricht\, Onze Lieve Vrouweplein 24 \, Maastricht\, 6211 HE
CATEGORIES:Gulpen,StiBON Bierambassadeur 2
END:VEVENT
BEGIN:VEVENT
DTSTART;TZID=Europe/Amsterdam:20210625T140000
DTEND;TZID=Europe/Amsterdam:20210625T180000
DTSTAMP:20260423T003045
CREATED:20200703T143151Z
LAST-MODIFIED:20210617T113109Z
UID:1981-1624629600-1624644000@stibon.nl
SUMMARY:Les 8: Bierassortiment en proefnotities schrijven / kaas en bier.
DESCRIPTION:Docenten: Arvid Bergström en Rob Alphenaar.
URL:https://stibon.nl/event/les-8-bierassortiment-en-proefnotities-schrijven-kaas-en-bier-3/
LOCATION:Café Charlemagne\, Maastricht\, Onze Lieve Vrouweplein 24 \, Maastricht\, 6211 HE
CATEGORIES:Gulpen,StiBON Bierambassadeur 2
ATTACH;FMTTYPE=image/jpeg:https://stibon.nl/app/uploads/2020/04/Arvid-Bergstrom1-204x174-1.jpg
END:VEVENT
BEGIN:VEVENT
DTSTART;TZID=Europe/Amsterdam:20210626T090000
DTEND;TZID=Europe/Amsterdam:20210626T130000
DTSTAMP:20260423T003045
CREATED:20200703T143510Z
LAST-MODIFIED:20210617T113139Z
UID:1986-1624698000-1624712400@stibon.nl
SUMMARY:Les 3: Trends en bierfolklore.
DESCRIPTION:Docent: Henri Reuchlin
URL:https://stibon.nl/event/les-3-trends-en-bierfolklore-3/
LOCATION:Café Charlemagne\, Maastricht\, Onze Lieve Vrouweplein 24 \, Maastricht\, 6211 HE
CATEGORIES:Gulpen,StiBON Bierambassadeur 2
ATTACH;FMTTYPE=image/jpeg:https://stibon.nl/app/uploads/2020/09/henri-1-e1645090149940.jpg
END:VEVENT
BEGIN:VEVENT
DTSTART;TZID=Europe/Amsterdam:20210626T140000
DTEND;TZID=Europe/Amsterdam:20210626T180000
DTSTAMP:20260423T003045
CREATED:20200703T143630Z
LAST-MODIFIED:20210617T113205Z
UID:1988-1624716000-1624730400@stibon.nl
SUMMARY:Les 12: Biercompetities\, biercocktails en epiloog.
DESCRIPTION:Docenten: Pepijn van der Waa en Henri Reuchlin.
URL:https://stibon.nl/event/es-12-biercompetities-biercocktails-en-epiloog/
LOCATION:Café Charlemagne\, Maastricht\, Onze Lieve Vrouweplein 24 \, Maastricht\, 6211 HE
CATEGORIES:Gulpen,StiBON Bierambassadeur 2
ATTACH;FMTTYPE=image/jpeg:https://stibon.nl/app/uploads/2020/04/Pepijn-van-der-Waa-204x174-1.jpg
END:VEVENT
BEGIN:VEVENT
DTSTART;TZID=Europe/Amsterdam:20210930T090000
DTEND;TZID=Europe/Amsterdam:20210930T130000
DTSTAMP:20260423T003045
CREATED:20210818T100845Z
LAST-MODIFIED:20210818T100845Z
UID:5967-1632992400-1633006800@stibon.nl
SUMMARY:Les 2: Invloed van water\, graan\, moutsoorten\, vruchten en zoetstoffen op de smaak van het bier.
DESCRIPTION:Docent: Onno Raspe
URL:https://stibon.nl/event/les-2-invloed-van-water-graan-moutsoorten-vruchten-en-zoetstoffen-op-de-smaak-van-het-bier-4/
LOCATION:Herberg de Zwarte Ruiter\, Markt 4\, Gulpen
CATEGORIES:Gulpen,StiBON Bierambassadeur 2
ATTACH;FMTTYPE=image/jpeg:https://stibon.nl/app/uploads/2020/09/download-e1599747757999.jpg
END:VEVENT
BEGIN:VEVENT
DTSTART;TZID=Europe/Amsterdam:20210930T140000
DTEND;TZID=Europe/Amsterdam:20210930T180000
DTSTAMP:20260423T003045
CREATED:20210818T101107Z
LAST-MODIFIED:20210818T101107Z
UID:5970-1633010400-1633024800@stibon.nl
SUMMARY:Les 1: Smaakafwijkingen en veroudering.
DESCRIPTION:Docent: Derek Walsh
URL:https://stibon.nl/event/les-1-smaakafwijkingen-en-veroudering-3/
LOCATION:Herberg de Zwarte Ruiter\, Markt 4\, Gulpen
CATEGORIES:Gulpen,StiBON Bierambassadeur 2
ATTACH;FMTTYPE=image/png:https://stibon.nl/app/uploads/2020/04/Derek-204x174-1.png
END:VEVENT
BEGIN:VEVENT
DTSTART;TZID=Europe/Amsterdam:20211001T090000
DTEND;TZID=Europe/Amsterdam:20211001T130000
DTSTAMP:20260423T003045
CREATED:20210818T101350Z
LAST-MODIFIED:20210818T101350Z
UID:5975-1633078800-1633093200@stibon.nl
SUMMARY:Les 6: Gist.
DESCRIPTION:Docent: André van der Zee
URL:https://stibon.nl/event/les-6-gist-6/
LOCATION:Herberg de Zwarte Ruiter\, Markt 4\, Gulpen
CATEGORIES:Gulpen,StiBON Bierambassadeur 2
ATTACH;FMTTYPE=image/jpeg:https://stibon.nl/app/uploads/2020/10/2018-AZ-Groningen3-e1645092009337.jpg
END:VEVENT
BEGIN:VEVENT
DTSTART;TZID=Europe/Amsterdam:20211001T140000
DTEND;TZID=Europe/Amsterdam:20211001T180000
DTSTAMP:20260423T003045
CREATED:20210818T101606Z
LAST-MODIFIED:20210818T101606Z
UID:5977-1633096800-1633111200@stibon.nl
SUMMARY:Les 9: Bierlanden en hun biertypen.
DESCRIPTION:Docent: Derek Walsh
URL:https://stibon.nl/event/les-9-bierlanden-en-hun-biertypen-6/
LOCATION:Herberg de Zwarte Ruiter\, Markt 4\, Gulpen
CATEGORIES:Gulpen,StiBON Bierambassadeur 2
ATTACH;FMTTYPE=image/png:https://stibon.nl/app/uploads/2020/04/Derek-204x174-1.png
END:VEVENT
BEGIN:VEVENT
DTSTART;TZID=Europe/Amsterdam:20211002T090000
DTEND;TZID=Europe/Amsterdam:20211002T130000
DTSTAMP:20260423T003045
CREATED:20210818T101803Z
LAST-MODIFIED:20210818T101803Z
UID:5979-1633165200-1633179600@stibon.nl
SUMMARY:Les 4: Invloed van kruiden\, specerijen en hop op de smaak van het bier.
DESCRIPTION:Docent: Jan Willem den Hartog
URL:https://stibon.nl/event/les-4-invloed-van-kruiden-specerijen-en-hop-op-de-smaak-van-het-bier-6/
LOCATION:Herberg de Zwarte Ruiter\, Markt 4\, Gulpen
CATEGORIES:Gulpen,StiBON Bierambassadeur 2
ATTACH;FMTTYPE=image/jpeg:https://stibon.nl/app/uploads/2020/10/Hop-hop-en-nog-eens-hop-in-Reijmerstok4-e1645092263816.jpg
END:VEVENT
BEGIN:VEVENT
DTSTART;TZID=Europe/Amsterdam:20211002T140000
DTEND;TZID=Europe/Amsterdam:20211002T180000
DTSTAMP:20260423T003045
CREATED:20210818T102006Z
LAST-MODIFIED:20210818T102006Z
UID:5981-1633183200-1633197600@stibon.nl
SUMMARY:Les 8: Bierassortiment / kaas en bier.
DESCRIPTION:Docenten: Rob Alphenaar en Arvid Bergström
URL:https://stibon.nl/event/les-8-bierassortiment-kaas-en-bier/
LOCATION:Herberg de Zwarte Ruiter\, Markt 4\, Gulpen
CATEGORIES:Gulpen,StiBON Bierambassadeur 2
ATTACH;FMTTYPE=image/jpeg:https://stibon.nl/app/uploads/2020/04/Arvid-Bergstrom1-204x174-1.jpg
END:VEVENT
BEGIN:VEVENT
DTSTART;TZID=Europe/Amsterdam:20211003T160000
DTEND;TZID=Europe/Amsterdam:20211003T200000
DTSTAMP:20260423T003045
CREATED:20210818T102352Z
LAST-MODIFIED:20210818T102352Z
UID:5983-1633276800-1633291200@stibon.nl
SUMMARY:Les 10: Bier aan tafel / bier in de keuken.
DESCRIPTION:Docenten: Henri Reuchlin en Arvid Bergström
URL:https://stibon.nl/event/les-10-bier-aan-tafel-bier-in-de-keuken-6/
LOCATION:Gulpener Brouwlokaal\, Rijksweg 19A\, Gulpen\, 6271AB
CATEGORIES:Gulpen,StiBON Bierambassadeur 2
ATTACH;FMTTYPE=image/jpeg:https://stibon.nl/app/uploads/2020/09/henri-1-e1645090149940.jpg
END:VEVENT
BEGIN:VEVENT
DTSTART;TZID=Europe/Amsterdam:20211004T090000
DTEND;TZID=Europe/Amsterdam:20211004T170000
DTSTAMP:20260423T003045
CREATED:20210818T102550Z
LAST-MODIFIED:20210818T102600Z
UID:5985-1633338000-1633366800@stibon.nl
SUMMARY:Les 7: Brouwen van het StiBON bier.
DESCRIPTION:Docenten: Bas Jacobs en Jan Wolfs
URL:https://stibon.nl/event/les-7-brouwen-van-het-stibon-bier-5/
LOCATION:Gulpener Brouwlokaal\, Rijksweg 19A\, Gulpen\, 6271AB
CATEGORIES:Gulpen,StiBON Bierambassadeur 2
ATTACH;FMTTYPE=image/jpeg:https://stibon.nl/app/uploads/2020/10/Foto-Bas-Jacob-Gulpener1.jpg
END:VEVENT
BEGIN:VEVENT
DTSTART;TZID=Europe/Amsterdam:20211005T090000
DTEND;TZID=Europe/Amsterdam:20211005T130000
DTSTAMP:20260423T003045
CREATED:20210818T102832Z
LAST-MODIFIED:20210818T102832Z
UID:5987-1633424400-1633438800@stibon.nl
SUMMARY:Les 3: Trends
DESCRIPTION:Docent: Henri Reuchlin
URL:https://stibon.nl/event/les-3-trends/
LOCATION:Gulpener Brouwlokaal\, Rijksweg 19A\, Gulpen\, 6271AB
CATEGORIES:Gulpen,StiBON Bierambassadeur 2
ATTACH;FMTTYPE=image/jpeg:https://stibon.nl/app/uploads/2020/09/henri-1-e1645090149940.jpg
END:VEVENT
BEGIN:VEVENT
DTSTART;TZID=Europe/Amsterdam:20211005T140000
DTEND;TZID=Europe/Amsterdam:20211005T180000
DTSTAMP:20260423T003045
CREATED:20210818T103101Z
LAST-MODIFIED:20210921T121934Z
UID:5989-1633442400-1633456800@stibon.nl
SUMMARY:Les 5: Schenken en klantenbenadering in de horeca.
DESCRIPTION:Docenten: Yu Mey Kwee en Pieter Gasthuis
URL:https://stibon.nl/event/les-5-schenken-en-klantenbenadering-in-de-horeca-4/
LOCATION:Gulpener Brouwlokaal\, Rijksweg 19A\, Gulpen\, 6271AB
CATEGORIES:Gulpen,StiBON Bierambassadeur 2
ATTACH;FMTTYPE=image/jpeg:https://stibon.nl/app/uploads/2020/04/Brand-1-204x174-1.jpg
END:VEVENT
BEGIN:VEVENT
DTSTART;TZID=Europe/Amsterdam:20211006T090000
DTEND;TZID=Europe/Amsterdam:20211006T130000
DTSTAMP:20260423T003045
CREATED:20210818T103303Z
LAST-MODIFIED:20210818T103303Z
UID:5991-1633510800-1633525200@stibon.nl
SUMMARY:Les 11: Bierproeverijen.
DESCRIPTION:Docent: Rick Kempen
URL:https://stibon.nl/event/les-11-bierproeverijen-6/
LOCATION:Gulpener Brouwlokaal\, Rijksweg 19A\, Gulpen\, 6271AB
CATEGORIES:Gulpen,StiBON Bierambassadeur 2
ATTACH;FMTTYPE=image/png:https://stibon.nl/app/uploads/2021/08/Rik1.png
END:VEVENT
BEGIN:VEVENT
DTSTART;TZID=Europe/Amsterdam:20211006T140000
DTEND;TZID=Europe/Amsterdam:20211006T180000
DTSTAMP:20260423T003045
CREATED:20210818T103456Z
LAST-MODIFIED:20210818T103456Z
UID:5993-1633528800-1633543200@stibon.nl
SUMMARY:Les 12: Biercompetities\, biercocktails en epiloog
DESCRIPTION:Docenten: Docent Pepijn van der Waa en Rick Kempen
URL:https://stibon.nl/event/les-12-biercompetities-biercocktails-en-epiloog-5/
LOCATION:Gulpener Brouwlokaal\, Rijksweg 19A\, Gulpen\, 6271AB
CATEGORIES:Gulpen,StiBON Bierambassadeur 2
ATTACH;FMTTYPE=image/jpeg:https://stibon.nl/app/uploads/2020/04/Pepijn-van-der-Waa-204x174-1.jpg
END:VEVENT
BEGIN:VEVENT
DTSTART;TZID=Europe/Amsterdam:20211122T090000
DTEND;TZID=Europe/Amsterdam:20211122T130000
DTSTAMP:20260423T003045
CREATED:20210816T114903Z
LAST-MODIFIED:20210816T114903Z
UID:5858-1637571600-1637586000@stibon.nl
SUMMARY:Les 1: Theorie en praktijk van het proeven.
DESCRIPTION:Docent: Pieter Gasthuis
URL:https://stibon.nl/event/les-1-theorie-en-praktijk-van-het-proeven-6/
LOCATION:Gulpener Brouwlokaal\, Rijksweg 19A\, Gulpen\, 6271AB
CATEGORIES:Gulpen,StiBON Bierambassadeur 1
ATTACH;FMTTYPE=image/jpeg:https://stibon.nl/app/uploads/2020/10/Pieter-Zwaan1.jpg
END:VEVENT
BEGIN:VEVENT
DTSTART;TZID=Europe/Amsterdam:20211122T140000
DTEND;TZID=Europe/Amsterdam:20211122T180000
DTSTAMP:20260423T003045
CREATED:20210816T115328Z
LAST-MODIFIED:20210816T115328Z
UID:5860-1637589600-1637604000@stibon.nl
SUMMARY:Les 2: Grondstoffen\, wetgeving en sociale hygiëne.
DESCRIPTION:Docent: Adjo Pot
URL:https://stibon.nl/event/les-2-grondstoffen-wetgeving-en-sociale-hygiene-8/
LOCATION:Gulpener Brouwlokaal\, Rijksweg 19A\, Gulpen\, 6271AB
CATEGORIES:Gulpen,StiBON Bierambassadeur 1
ATTACH;FMTTYPE=image/jpeg:https://stibon.nl/app/uploads/2020/03/Adjo-Pot-Stibon6-204x174-1.jpg
END:VEVENT
BEGIN:VEVENT
DTSTART;TZID=Europe/Amsterdam:20211123T090000
DTEND;TZID=Europe/Amsterdam:20211123T130000
DTSTAMP:20260423T003045
CREATED:20210816T115513Z
LAST-MODIFIED:20210816T115513Z
UID:5862-1637658000-1637672400@stibon.nl
SUMMARY:Les 4: Brouwproces.
DESCRIPTION:Docent: Bas Jacobs
URL:https://stibon.nl/event/les-4-brouwproces-7/
LOCATION:Gulpener Brouwlokaal\, Rijksweg 19A\, Gulpen\, 6271AB
CATEGORIES:Gulpen,StiBON Bierambassadeur 1
ATTACH;FMTTYPE=image/jpeg:https://stibon.nl/app/uploads/2020/10/Foto-Bas-Jacob-Gulpener1.jpg
END:VEVENT
BEGIN:VEVENT
DTSTART;TZID=Europe/Amsterdam:20211123T140000
DTEND;TZID=Europe/Amsterdam:20211123T180000
DTSTAMP:20260423T003045
CREATED:20210816T115954Z
LAST-MODIFIED:20210816T115954Z
UID:5865-1637676000-1637690400@stibon.nl
SUMMARY:Les 5: Bierbehandeling en opslag
DESCRIPTION:Docent: Andre Köppen
URL:https://stibon.nl/event/les-5-bierbehandeling-en-opslag-7/
LOCATION:Gulpener Brouwlokaal\, Rijksweg 19A\, Gulpen\, 6271AB
CATEGORIES:Gulpen,StiBON Bierambassadeur 1
ATTACH;FMTTYPE=image/jpeg:https://stibon.nl/app/uploads/2020/10/andre1.jpg
END:VEVENT
BEGIN:VEVENT
DTSTART;TZID=Europe/Amsterdam:20211124T090000
DTEND;TZID=Europe/Amsterdam:20211124T130000
DTSTAMP:20260423T003045
CREATED:20210816T120216Z
LAST-MODIFIED:20210816T120216Z
UID:5867-1637744400-1637758800@stibon.nl
SUMMARY:Les 3: Historie\, trends en bier & gezondheid.
DESCRIPTION:Docent: David van Term
URL:https://stibon.nl/event/les-3-historie-trends-en-bier-gezondheid-7/
LOCATION:Gulpener Brouwlokaal\, Rijksweg 19A\, Gulpen\, 6271AB
CATEGORIES:Gulpen,StiBON Bierambassadeur 1
ATTACH;FMTTYPE=image/png:https://stibon.nl/app/uploads/2020/10/David-v-T-e1623232627990.png
END:VEVENT
BEGIN:VEVENT
DTSTART;TZID=Europe/Amsterdam:20211124T140000
DTEND;TZID=Europe/Amsterdam:20211124T180000
DTSTAMP:20260423T003045
CREATED:20210816T120840Z
LAST-MODIFIED:20211115T103358Z
UID:5869-1637762400-1637776800@stibon.nl
SUMMARY:Les 6: Bier aan tafel.
DESCRIPTION:Docent: Arvid Bergström
URL:https://stibon.nl/event/les-6-bier-aan-tafel-8/
LOCATION:Gulpener Brouwlokaal\, Rijksweg 19A\, Gulpen\, 6271AB
CATEGORIES:Gulpen,StiBON Bierambassadeur 1
ATTACH;FMTTYPE=image/jpeg:https://stibon.nl/app/uploads/2020/04/Arvid-Bergstrom1-204x174-1.jpg
END:VEVENT
BEGIN:VEVENT
DTSTART;TZID=Europe/Amsterdam:20220201T090000
DTEND;TZID=Europe/Amsterdam:20220201T130000
DTSTAMP:20260423T003045
CREATED:20220201T155816Z
LAST-MODIFIED:20220201T155816Z
UID:7806-1643706000-1643720400@stibon.nl
SUMMARY:Les 2: Invloed van water\, graan\, moutsoorten\, vruchten en zoetstoffen op de smaak van het bier.
DESCRIPTION:Docent: Onno Raspe
URL:https://stibon.nl/event/les-2-invloed-van-water-graan-moutsoorten-vruchten-en-zoetstoffen-op-de-smaak-van-het-bier-6/
LOCATION:Herberg de Zwarte Ruiter\, Markt 4\, Gulpen
CATEGORIES:Gulpen,StiBON Bierambassadeur 2
ATTACH;FMTTYPE=image/jpeg:https://stibon.nl/app/uploads/2020/09/download-e1599747757999.jpg
END:VEVENT
BEGIN:VEVENT
DTSTART;TZID=Europe/Amsterdam:20220331T090000
DTEND;TZID=Europe/Amsterdam:20220331T130000
DTSTAMP:20260423T003045
CREATED:20220201T160317Z
LAST-MODIFIED:20220216T121929Z
UID:7808-1648717200-1648731600@stibon.nl
SUMMARY:Les 2: Invloed van water\, graan\, moutsoorten\, vruchten en zoetstoffen op de smaak van het bier.
DESCRIPTION:Docent: Onno Raspe
URL:https://stibon.nl/event/les-2-invloed-van-water-graan-moutsoorten-vruchten-en-zoetstoffen-op-de-smaak-van-het-bier-7/
LOCATION:Herberg de Zwarte Ruiter\, Markt 4\, Gulpen
CATEGORIES:Gulpen,StiBON Bierambassadeur 2
ATTACH;FMTTYPE=image/jpeg:https://stibon.nl/app/uploads/2020/09/download-e1599747757999.jpg
END:VEVENT
BEGIN:VEVENT
DTSTART;TZID=Europe/Amsterdam:20220331T140000
DTEND;TZID=Europe/Amsterdam:20220331T180000
DTSTAMP:20260423T003045
CREATED:20220201T155246Z
LAST-MODIFIED:20220201T155246Z
UID:7804-1648735200-1648749600@stibon.nl
SUMMARY:Les 1: Smaakafwijkingen en veroudering.
DESCRIPTION:Docent: Derek Walsh
URL:https://stibon.nl/event/les-1-smaakafwijkingen-en-veroudering-6/
LOCATION:Herberg de Zwarte Ruiter\, Markt 4\, Gulpen
CATEGORIES:Gulpen,StiBON Bierambassadeur 2
ATTACH;FMTTYPE=image/png:https://stibon.nl/app/uploads/2020/04/Derek-204x174-1.png
END:VEVENT
BEGIN:VEVENT
DTSTART;TZID=Europe/Amsterdam:20220401T090000
DTEND;TZID=Europe/Amsterdam:20220401T130000
DTSTAMP:20260423T003045
CREATED:20220201T160826Z
LAST-MODIFIED:20220201T160903Z
UID:7810-1648803600-1648818000@stibon.nl
SUMMARY:Les 6: Gist.
DESCRIPTION:Docent: André van der Zee
URL:https://stibon.nl/event/les-6-gist-8/
LOCATION:Herberg de Zwarte Ruiter\, Markt 4\, Gulpen
CATEGORIES:Gulpen,StiBON Bierambassadeur 2
ATTACH;FMTTYPE=image/jpeg:https://stibon.nl/app/uploads/2020/10/2018-AZ-Groningen3-e1645092009337.jpg
END:VEVENT
BEGIN:VEVENT
DTSTART;TZID=Europe/Amsterdam:20220402T140000
DTEND;TZID=Europe/Amsterdam:20220402T180000
DTSTAMP:20260423T003045
CREATED:20220201T161637Z
LAST-MODIFIED:20220216T122719Z
UID:7816-1648908000-1648922400@stibon.nl
SUMMARY:Les 8: Bierassortiment / kaas en bier.
DESCRIPTION:Docenten: Rob Alphenaar en Arvid Bergström
URL:https://stibon.nl/event/les-8-bierassortiment-kaas-en-bier-2/
LOCATION:Herberg de Zwarte Ruiter\, Markt 4\, Gulpen
CATEGORIES:Gulpen,StiBON Bierambassadeur 2
ATTACH;FMTTYPE=image/jpeg:https://stibon.nl/app/uploads/2021/08/Rob-Alphenaar-1.jpg
END:VEVENT
BEGIN:VEVENT
DTSTART;TZID=Europe/Amsterdam:20220403T160000
DTEND;TZID=Europe/Amsterdam:20220403T200000
DTSTAMP:20260423T003045
CREATED:20220201T161939Z
LAST-MODIFIED:20220216T122854Z
UID:7819-1649001600-1649016000@stibon.nl
SUMMARY:Les 10: Bier aan tafel / bier in de keuken.
DESCRIPTION:Docenten: Henri Reuchlin en Arvid Bergström
URL:https://stibon.nl/event/les-10-bier-aan-tafel-bier-in-de-keuken-9/
LOCATION:Gulpener Brouwlokaal\, Rijksweg 19A\, Gulpen\, 6271AB
CATEGORIES:Gulpen,StiBON Bierambassadeur 2
ATTACH;FMTTYPE=image/jpeg:https://stibon.nl/app/uploads/2020/09/henri-1-e1645090149940.jpg
END:VEVENT
END:VCALENDAR