BEGIN:VCALENDAR
VERSION:2.0
PRODID:-//Stibon - ECPv6.11.2//NONSGML v1.0//EN
CALSCALE:GREGORIAN
METHOD:PUBLISH
X-WR-CALNAME:Stibon
X-ORIGINAL-URL:https://stibon.nl
X-WR-CALDESC:Evenementen voor Stibon
REFRESH-INTERVAL;VALUE=DURATION:PT1H
X-Robots-Tag:noindex
X-PUBLISHED-TTL:PT1H
BEGIN:VTIMEZONE
TZID:Europe/Amsterdam
BEGIN:DAYLIGHT
TZOFFSETFROM:+0100
TZOFFSETTO:+0200
TZNAME:CEST
DTSTART:20230326T010000
END:DAYLIGHT
BEGIN:STANDARD
TZOFFSETFROM:+0200
TZOFFSETTO:+0100
TZNAME:CET
DTSTART:20231029T010000
END:STANDARD
END:VTIMEZONE
BEGIN:VEVENT
DTSTART;TZID=Europe/Amsterdam:20230523T090000
DTEND;TZID=Europe/Amsterdam:20230523T130000
DTSTAMP:20260421T004016
CREATED:20221217T101656Z
LAST-MODIFIED:20221217T101656Z
UID:11845-1684832400-1684846800@stibon.nl
SUMMARY:Les 3: Historie\, trends en bier & gezondheid.
DESCRIPTION:Docent: David van Term.
URL:https://stibon.nl/event/les-3-historie-trends-en-bier-gezondheid-28/
LOCATION:Gulpener Brouwlokaal\, Rijksweg 19A\, Gulpen\, 6271AB
CATEGORIES:Gulpen,StiBON Bierambassadeur 1
ATTACH;FMTTYPE=image/png:https://stibon.nl/app/uploads/2020/10/David-v-T-e1623232627990.png
END:VEVENT
END:VCALENDAR