BEGIN:VCALENDAR
VERSION:2.0
PRODID:-//Stibon - ECPv6.11.2//NONSGML v1.0//EN
CALSCALE:GREGORIAN
METHOD:PUBLISH
X-WR-CALNAME:Stibon
X-ORIGINAL-URL:https://stibon.nl
X-WR-CALDESC:Evenementen voor Stibon
REFRESH-INTERVAL;VALUE=DURATION:PT1H
X-Robots-Tag:noindex
X-PUBLISHED-TTL:PT1H
BEGIN:VTIMEZONE
TZID:Europe/Amsterdam
BEGIN:DAYLIGHT
TZOFFSETFROM:+0100
TZOFFSETTO:+0200
TZNAME:CEST
DTSTART:20230326T010000
END:DAYLIGHT
BEGIN:STANDARD
TZOFFSETFROM:+0200
TZOFFSETTO:+0100
TZNAME:CET
DTSTART:20231029T010000
END:STANDARD
END:VTIMEZONE
BEGIN:VEVENT
DTSTART;TZID=Europe/Amsterdam:20230324T090000
DTEND;TZID=Europe/Amsterdam:20230324T130000
DTSTAMP:20260421T040525
CREATED:20221220T140259Z
LAST-MODIFIED:20221220T140259Z
UID:11955-1679648400-1679662800@stibon.nl
SUMMARY:Les 9: Bierlanden en hun biertypen.
DESCRIPTION:Docent Derek Walsh.
URL:https://stibon.nl/event/les-9-bierlanden-en-hun-biertypen-15/
LOCATION:Herberg de Zwarte Ruiter\, Markt 4\, Gulpen
CATEGORIES:Gulpen,StiBON Bierambassadeur 2
ATTACH;FMTTYPE=image/png:https://stibon.nl/app/uploads/2020/04/Derek-204x174-1.png
END:VEVENT
BEGIN:VEVENT
DTSTART;TZID=Europe/Amsterdam:20230324T140000
DTEND;TZID=Europe/Amsterdam:20230324T180000
DTSTAMP:20260421T040525
CREATED:20221220T140503Z
LAST-MODIFIED:20221220T140503Z
UID:11957-1679666400-1679680800@stibon.nl
SUMMARY:Les 6: Gist.
DESCRIPTION:Docent André van der Zee.
URL:https://stibon.nl/event/les-6-gist-14/
LOCATION:Herberg de Zwarte Ruiter\, Markt 4\, Gulpen
CATEGORIES:Gulpen,StiBON Bierambassadeur 2
ATTACH;FMTTYPE=image/jpeg:https://stibon.nl/app/uploads/2020/10/2018-AZ-Groningen3-e1645092009337.jpg
END:VEVENT
END:VCALENDAR