BEGIN:VCALENDAR
VERSION:2.0
PRODID:-//Stibon - ECPv6.11.2//NONSGML v1.0//EN
CALSCALE:GREGORIAN
METHOD:PUBLISH
X-ORIGINAL-URL:https://stibon.nl
X-WR-CALDESC:Evenementen voor Stibon
REFRESH-INTERVAL;VALUE=DURATION:PT1H
X-Robots-Tag:noindex
X-PUBLISHED-TTL:PT1H
BEGIN:VTIMEZONE
TZID:Europe/Amsterdam
BEGIN:DAYLIGHT
TZOFFSETFROM:+0100
TZOFFSETTO:+0200
TZNAME:CEST
DTSTART:20220327T010000
END:DAYLIGHT
BEGIN:STANDARD
TZOFFSETFROM:+0200
TZOFFSETTO:+0100
TZNAME:CET
DTSTART:20221030T010000
END:STANDARD
END:VTIMEZONE
BEGIN:VEVENT
DTSTART;TZID=Europe/Amsterdam:20220523T090000
DTEND;TZID=Europe/Amsterdam:20220523T130000
DTSTAMP:20260421T215447
CREATED:20220203T132617Z
LAST-MODIFIED:20220217T101354Z
UID:7868-1653296400-1653310800@stibon.nl
SUMMARY:Les 1: Theorie en praktijk van het proeven.
DESCRIPTION:Docent: Pieter Gasthuis
URL:https://stibon.nl/event/les-1-theorie-en-praktijk-van-het-proeven-14/
LOCATION:Gulpener Brouwlokaal\, Rijksweg 19A\, Gulpen\, 6271AB
CATEGORIES:Gulpen,StiBON Bierambassadeur 1
ATTACH;FMTTYPE=image/jpeg:https://stibon.nl/app/uploads/2020/10/Pieter-Zwaan1.jpg
END:VEVENT
BEGIN:VEVENT
DTSTART;TZID=Europe/Amsterdam:20220523T183000
DTEND;TZID=Europe/Amsterdam:20220523T223000
DTSTAMP:20260421T215447
CREATED:20220203T132906Z
LAST-MODIFIED:20220210T090455Z
UID:7871-1653330600-1653345000@stibon.nl
SUMMARY:Les 2: Grondstoffen\, wetgeving en sociale hygiëne.
DESCRIPTION:Docent: Adjo Pot
URL:https://stibon.nl/event/les-2-grondstoffen-wetgeving-en-sociale-hygiene-17/
LOCATION:Gulpener Brouwlokaal\, Rijksweg 19A\, Gulpen\, 6271AB
CATEGORIES:Gulpen,StiBON Bierambassadeur 1
ATTACH;FMTTYPE=image/jpeg:https://stibon.nl/app/uploads/2020/03/Adjo-Pot-Stibon6-204x174-1.jpg
END:VEVENT
END:VCALENDAR