BEGIN:VCALENDAR
VERSION:2.0
PRODID:-//Stibon - ECPv6.11.2//NONSGML v1.0//EN
CALSCALE:GREGORIAN
METHOD:PUBLISH
X-ORIGINAL-URL:https://stibon.nl
X-WR-CALDESC:Evenementen voor Stibon
REFRESH-INTERVAL;VALUE=DURATION:PT1H
X-Robots-Tag:noindex
X-PUBLISHED-TTL:PT1H
BEGIN:VTIMEZONE
TZID:Europe/Amsterdam
BEGIN:DAYLIGHT
TZOFFSETFROM:+0100
TZOFFSETTO:+0200
TZNAME:CEST
DTSTART:20210328T010000
END:DAYLIGHT
BEGIN:STANDARD
TZOFFSETFROM:+0200
TZOFFSETTO:+0100
TZNAME:CET
DTSTART:20211031T010000
END:STANDARD
END:VTIMEZONE
BEGIN:VEVENT
DTSTART;TZID=Europe/Amsterdam:20211005T090000
DTEND;TZID=Europe/Amsterdam:20211005T130000
DTSTAMP:20260422T090113
CREATED:20210818T102832Z
LAST-MODIFIED:20210818T102832Z
UID:5987-1633424400-1633438800@stibon.nl
SUMMARY:Les 3: Trends
DESCRIPTION:Docent: Henri Reuchlin
URL:https://stibon.nl/event/les-3-trends/
LOCATION:Gulpener Brouwlokaal\, Rijksweg 19A\, Gulpen\, 6271AB
CATEGORIES:Gulpen,StiBON Bierambassadeur 2
ATTACH;FMTTYPE=image/jpeg:https://stibon.nl/app/uploads/2020/09/henri-1-e1645090149940.jpg
END:VEVENT
BEGIN:VEVENT
DTSTART;TZID=Europe/Amsterdam:20211005T140000
DTEND;TZID=Europe/Amsterdam:20211005T180000
DTSTAMP:20260422T090113
CREATED:20210818T103101Z
LAST-MODIFIED:20210921T121934Z
UID:5989-1633442400-1633456800@stibon.nl
SUMMARY:Les 5: Schenken en klantenbenadering in de horeca.
DESCRIPTION:Docenten: Yu Mey Kwee en Pieter Gasthuis
URL:https://stibon.nl/event/les-5-schenken-en-klantenbenadering-in-de-horeca-4/
LOCATION:Gulpener Brouwlokaal\, Rijksweg 19A\, Gulpen\, 6271AB
CATEGORIES:Gulpen,StiBON Bierambassadeur 2
ATTACH;FMTTYPE=image/jpeg:https://stibon.nl/app/uploads/2020/04/Brand-1-204x174-1.jpg
END:VEVENT
END:VCALENDAR