BEGIN:VCALENDAR
VERSION:2.0
PRODID:-//Stibon - ECPv6.11.2//NONSGML v1.0//EN
CALSCALE:GREGORIAN
METHOD:PUBLISH
X-ORIGINAL-URL:https://stibon.nl
X-WR-CALDESC:Evenementen voor Stibon
REFRESH-INTERVAL;VALUE=DURATION:PT1H
X-Robots-Tag:noindex
X-PUBLISHED-TTL:PT1H
BEGIN:VTIMEZONE
TZID:Europe/Amsterdam
BEGIN:DAYLIGHT
TZOFFSETFROM:+0100
TZOFFSETTO:+0200
TZNAME:CEST
DTSTART:20210328T010000
END:DAYLIGHT
BEGIN:STANDARD
TZOFFSETFROM:+0200
TZOFFSETTO:+0100
TZNAME:CET
DTSTART:20211031T010000
END:STANDARD
END:VTIMEZONE
BEGIN:VEVENT
DTSTART;TZID=Europe/Amsterdam:20210625T090000
DTEND;TZID=Europe/Amsterdam:20210625T130000
DTSTAMP:20260422T164726
CREATED:20200703T143325Z
LAST-MODIFIED:20210617T113355Z
UID:1984-1624611600-1624626000@stibon.nl
SUMMARY:Les 11: Bierproeverijen.
DESCRIPTION:Docent: Rick Kempen
URL:https://stibon.nl/event/les-11-bierproeverijen-3/
LOCATION:Café Charlemagne\, Maastricht\, Onze Lieve Vrouweplein 24 \, Maastricht\, 6211 HE
CATEGORIES:Gulpen,StiBON Bierambassadeur 2
END:VEVENT
BEGIN:VEVENT
DTSTART;TZID=Europe/Amsterdam:20210625T140000
DTEND;TZID=Europe/Amsterdam:20210625T180000
DTSTAMP:20260422T164726
CREATED:20200703T143151Z
LAST-MODIFIED:20210617T113109Z
UID:1981-1624629600-1624644000@stibon.nl
SUMMARY:Les 8: Bierassortiment en proefnotities schrijven / kaas en bier.
DESCRIPTION:Docenten: Arvid Bergström en Rob Alphenaar.
URL:https://stibon.nl/event/les-8-bierassortiment-en-proefnotities-schrijven-kaas-en-bier-3/
LOCATION:Café Charlemagne\, Maastricht\, Onze Lieve Vrouweplein 24 \, Maastricht\, 6211 HE
CATEGORIES:Gulpen,StiBON Bierambassadeur 2
ATTACH;FMTTYPE=image/jpeg:https://stibon.nl/app/uploads/2020/04/Arvid-Bergstrom1-204x174-1.jpg
END:VEVENT
END:VCALENDAR