BEGIN:VCALENDAR
VERSION:2.0
PRODID:-//Stibon - ECPv6.11.2//NONSGML v1.0//EN
CALSCALE:GREGORIAN
METHOD:PUBLISH
X-ORIGINAL-URL:https://stibon.nl
X-WR-CALDESC:Evenementen voor Stibon
REFRESH-INTERVAL;VALUE=DURATION:PT1H
X-Robots-Tag:noindex
X-PUBLISHED-TTL:PT1H
BEGIN:VTIMEZONE
TZID:Europe/Amsterdam
BEGIN:DAYLIGHT
TZOFFSETFROM:+0100
TZOFFSETTO:+0200
TZNAME:CEST
DTSTART:20210328T010000
END:DAYLIGHT
BEGIN:STANDARD
TZOFFSETFROM:+0200
TZOFFSETTO:+0100
TZNAME:CET
DTSTART:20211031T010000
END:STANDARD
END:VTIMEZONE
BEGIN:VEVENT
DTSTART;TZID=Europe/Amsterdam:20210621T090000
DTEND;TZID=Europe/Amsterdam:20210621T130000
DTSTAMP:20260422T164710
CREATED:20200703T141347Z
LAST-MODIFIED:20210316T124253Z
UID:1965-1624266000-1624280400@stibon.nl
SUMMARY:Les 2: Invloed van water\, graan\, moutsoorten\, vruchten en zoetstoffen op de smaak van het bier.
DESCRIPTION:Docert: Onno Raspe
URL:https://stibon.nl/event/les-2-invloed-van-water-graan-moutsoorten-vruchten-en-zoetstoffen-op-de-smaak-van-het-bier-3/
LOCATION:Gulpener Brouwlokaal\, Rijksweg 19A\, Gulpen\, 6271AB
CATEGORIES:Gulpen,StiBON Bierambassadeur 2
ATTACH;FMTTYPE=image/jpeg:https://stibon.nl/app/uploads/2020/09/download-e1599747757999.jpg
END:VEVENT
BEGIN:VEVENT
DTSTART;TZID=Europe/Amsterdam:20210621T140000
DTEND;TZID=Europe/Amsterdam:20210621T180000
DTSTAMP:20260422T164710
CREATED:20200703T141536Z
LAST-MODIFIED:20210316T124216Z
UID:1967-1624284000-1624298400@stibon.nl
SUMMARY:Les 1: Smaakafwijkingen en veroudering.
DESCRIPTION:Docent: Derek Walsh
URL:https://stibon.nl/event/es-1-smaakafwijkingen-en-veroudering/
LOCATION:Gulpener Brouwlokaal\, Rijksweg 19A\, Gulpen\, 6271AB
CATEGORIES:Gulpen,StiBON Bierambassadeur 2
ATTACH;FMTTYPE=image/png:https://stibon.nl/app/uploads/2020/04/Derek-204x174-1.png
END:VEVENT
END:VCALENDAR