BEGIN:VCALENDAR
VERSION:2.0
PRODID:-//Stibon - ECPv6.11.2//NONSGML v1.0//EN
CALSCALE:GREGORIAN
METHOD:PUBLISH
X-ORIGINAL-URL:https://stibon.nl
X-WR-CALDESC:Evenementen voor Stibon
REFRESH-INTERVAL;VALUE=DURATION:PT1H
X-Robots-Tag:noindex
X-PUBLISHED-TTL:PT1H
BEGIN:VTIMEZONE
TZID:Europe/Amsterdam
BEGIN:DAYLIGHT
TZOFFSETFROM:+0100
TZOFFSETTO:+0200
TZNAME:CEST
DTSTART:20230326T010000
END:DAYLIGHT
BEGIN:STANDARD
TZOFFSETFROM:+0200
TZOFFSETTO:+0100
TZNAME:CET
DTSTART:20231029T010000
END:STANDARD
END:VTIMEZONE
BEGIN:VEVENT
DTSTART;TZID=Europe/Amsterdam:20231127T090000
DTEND;TZID=Europe/Amsterdam:20231127T130000
DTSTAMP:20260420T132726
CREATED:20231009T115305Z
LAST-MODIFIED:20231009T115305Z
UID:15399-1701075600-1701090000@stibon.nl
SUMMARY:Les 1: Theorie en praktijk van het proeven
DESCRIPTION:Docent: Pieter Gasthuis.
URL:https://stibon.nl/event/les-1-theorie-en-praktijk-van-het-proeven-35/
LOCATION:Gulpener Brouwlokaal\, Rijksweg 19A\, Gulpen\, 6271AB
CATEGORIES:Gulpen,StiBON Bierambassadeur 1
ATTACH;FMTTYPE=image/jpeg:https://stibon.nl/app/uploads/2020/10/Pieter-Zwaan1.jpg
END:VEVENT
BEGIN:VEVENT
DTSTART;TZID=Europe/Amsterdam:20231127T140000
DTEND;TZID=Europe/Amsterdam:20231127T180000
DTSTAMP:20260420T132726
CREATED:20231009T115610Z
LAST-MODIFIED:20231009T115610Z
UID:15401-1701093600-1701108000@stibon.nl
SUMMARY:Les 2: Grondstoffen\, wetgeving en sociale hygiëne
DESCRIPTION:Docent: Adjo Pot.
URL:https://stibon.nl/event/les-2-grondstoffen-wetgeving-en-sociale-hygiene-39/
LOCATION:Gulpener Brouwlokaal\, Rijksweg 19A\, Gulpen\, 6271AB
CATEGORIES:Gulpen,StiBON Bierambassadeur 1
ATTACH;FMTTYPE=image/jpeg:https://stibon.nl/app/uploads/2020/03/Adjo-Pot-Stibon6-204x174-1.jpg
END:VEVENT
BEGIN:VEVENT
DTSTART;TZID=Europe/Amsterdam:20231128T090000
DTEND;TZID=Europe/Amsterdam:20231128T140000
DTSTAMP:20260420T132726
CREATED:20231009T120314Z
LAST-MODIFIED:20231127T184847Z
UID:15405-1701162000-1701180000@stibon.nl
SUMMARY:Les 4: Brouwproces
DESCRIPTION:docent: Bas Jacob
URL:https://stibon.nl/event/les-4-brouwproces-39/
LOCATION:Gulpener Brouwlokaal\, Rijksweg 19A\, Gulpen\, 6271AB
CATEGORIES:Gulpen,StiBON Bierambassadeur 1
ATTACH;FMTTYPE=image/jpeg:https://stibon.nl/app/uploads/2020/10/Foto-Bas-Jacob-Gulpener1.jpg
END:VEVENT
BEGIN:VEVENT
DTSTART;TZID=Europe/Amsterdam:20231128T140000
DTEND;TZID=Europe/Amsterdam:20231128T180000
DTSTAMP:20260420T132726
CREATED:20231009T115914Z
LAST-MODIFIED:20231127T184746Z
UID:15403-1701180000-1701194400@stibon.nl
SUMMARY:Les 3: Historie\, trends en bier & gezondheid
DESCRIPTION:Docent: Bart Van Kleef
URL:https://stibon.nl/event/les-3-historie-trends-en-bier-gezondheid-35/
LOCATION:Gulpener Brouwlokaal\, Rijksweg 19A\, Gulpen\, 6271AB
CATEGORIES:Gulpen,StiBON Bierambassadeur 1
ATTACH;FMTTYPE=image/jpeg:https://stibon.nl/app/uploads/2023/10/bart-van-kleef.jpg
END:VEVENT
BEGIN:VEVENT
DTSTART;TZID=Europe/Amsterdam:20231129T090000
DTEND;TZID=Europe/Amsterdam:20231129T130000
DTSTAMP:20260420T132726
CREATED:20231009T120515Z
LAST-MODIFIED:20231009T120515Z
UID:15407-1701248400-1701262800@stibon.nl
SUMMARY:Les 5: Bierbehandeling en opslag
DESCRIPTION:Docent: Gabriël Keijmis
URL:https://stibon.nl/event/les-5-bierbehandeling-en-opslag-37/
LOCATION:Gulpener Brouwlokaal\, Rijksweg 19A\, Gulpen\, 6271AB
CATEGORIES:Gulpen,StiBON Bierambassadeur 1
ATTACH;FMTTYPE=image/jpeg:https://stibon.nl/app/uploads/2022/02/Gabi_2019-e1645093024392.jpg
END:VEVENT
BEGIN:VEVENT
DTSTART;TZID=Europe/Amsterdam:20231129T140000
DTEND;TZID=Europe/Amsterdam:20231129T180000
DTSTAMP:20260420T132726
CREATED:20231009T120710Z
LAST-MODIFIED:20231023T102321Z
UID:15409-1701266400-1701280800@stibon.nl
SUMMARY:Les 6: Bier aan tafel
DESCRIPTION:Docent: Hubert Hecker
URL:https://stibon.nl/event/les-6-bier-aan-tafel-35/
LOCATION:Gulpener Brouwlokaal\, Rijksweg 19A\, Gulpen\, 6271AB
CATEGORIES:Gulpen,StiBON Bierambassadeur 1
ATTACH;FMTTYPE=image/jpeg:https://stibon.nl/app/uploads/2022/12/Hubert-Hecker-e1698056594687.jpg
END:VEVENT
END:VCALENDAR