BEGIN:VCALENDAR
VERSION:2.0
PRODID:-//Stibon - ECPv6.11.2//NONSGML v1.0//EN
CALSCALE:GREGORIAN
METHOD:PUBLISH
X-ORIGINAL-URL:https://stibon.nl
X-WR-CALDESC:Evenementen voor Stibon
REFRESH-INTERVAL;VALUE=DURATION:PT1H
X-Robots-Tag:noindex
X-PUBLISHED-TTL:PT1H
BEGIN:VTIMEZONE
TZID:Europe/Amsterdam
BEGIN:DAYLIGHT
TZOFFSETFROM:+0100
TZOFFSETTO:+0200
TZNAME:CEST
DTSTART:20230326T010000
END:DAYLIGHT
BEGIN:STANDARD
TZOFFSETFROM:+0200
TZOFFSETTO:+0100
TZNAME:CET
DTSTART:20231029T010000
END:STANDARD
END:VTIMEZONE
BEGIN:VEVENT
DTSTART;TZID=Europe/Amsterdam:20230522T090000
DTEND;TZID=Europe/Amsterdam:20230522T130000
DTSTAMP:20260420T230316
CREATED:20221217T101318Z
LAST-MODIFIED:20221217T101318Z
UID:11841-1684746000-1684760400@stibon.nl
SUMMARY:Les 1: Theorie en praktijk van het proeven.
DESCRIPTION:Docent: Pieter Gasthuis.
URL:https://stibon.nl/event/les-1-theorie-en-praktijk-van-het-proeven-29/
LOCATION:Gulpener Brouwlokaal\, Rijksweg 19A\, Gulpen\, 6271AB
CATEGORIES:Gulpen,StiBON Bierambassadeur 1
ATTACH;FMTTYPE=image/jpeg:https://stibon.nl/app/uploads/2020/10/Pieter-Zwaan1.jpg
END:VEVENT
BEGIN:VEVENT
DTSTART;TZID=Europe/Amsterdam:20230522T140000
DTEND;TZID=Europe/Amsterdam:20230522T180000
DTSTAMP:20260420T230316
CREATED:20221217T101502Z
LAST-MODIFIED:20221217T101502Z
UID:11843-1684764000-1684778400@stibon.nl
SUMMARY:Les 2: Grondstoffen\, wetgeving en sociale hygiëne.
DESCRIPTION:Docent: Adjo Pot.
URL:https://stibon.nl/event/les-2-grondstoffen-wetgeving-en-sociale-hygiene-33/
LOCATION:Gulpener Brouwlokaal\, Rijksweg 19A\, Gulpen\, 6271AB
CATEGORIES:Gulpen,StiBON Bierambassadeur 1
ATTACH;FMTTYPE=image/jpeg:https://stibon.nl/app/uploads/2020/03/Adjo-Pot-Stibon6-204x174-1.jpg
END:VEVENT
BEGIN:VEVENT
DTSTART;TZID=Europe/Amsterdam:20230523T090000
DTEND;TZID=Europe/Amsterdam:20230523T130000
DTSTAMP:20260420T230316
CREATED:20221217T101656Z
LAST-MODIFIED:20221217T101656Z
UID:11845-1684832400-1684846800@stibon.nl
SUMMARY:Les 3: Historie\, trends en bier & gezondheid.
DESCRIPTION:Docent: David van Term.
URL:https://stibon.nl/event/les-3-historie-trends-en-bier-gezondheid-28/
LOCATION:Gulpener Brouwlokaal\, Rijksweg 19A\, Gulpen\, 6271AB
CATEGORIES:Gulpen,StiBON Bierambassadeur 1
ATTACH;FMTTYPE=image/png:https://stibon.nl/app/uploads/2020/10/David-v-T-e1623232627990.png
END:VEVENT
BEGIN:VEVENT
DTSTART;TZID=Europe/Amsterdam:20230524T090000
DTEND;TZID=Europe/Amsterdam:20230524T120000
DTSTAMP:20260420T230316
CREATED:20221219T112756Z
LAST-MODIFIED:20230224T125447Z
UID:11866-1684918800-1684929600@stibon.nl
SUMMARY:Les 5: Bierbehandeling en opslag.
DESCRIPTION:Docent: Gabriël Keijmis.
URL:https://stibon.nl/event/les-5-bierbehandeling-en-opslag-31/
LOCATION:Gulpener Brouwlokaal\, Rijksweg 19A\, Gulpen\, 6271AB
CATEGORIES:Gulpen,StiBON Bierambassadeur 1
ATTACH;FMTTYPE=image/jpeg:https://stibon.nl/app/uploads/2022/02/Gabi_2019-e1645093024392.jpg
END:VEVENT
BEGIN:VEVENT
DTSTART;TZID=Europe/Amsterdam:20230524T140000
DTEND;TZID=Europe/Amsterdam:20230524T180000
DTSTAMP:20260420T230316
CREATED:20221219T121955Z
LAST-MODIFIED:20221219T121955Z
UID:11870-1684936800-1684951200@stibon.nl
SUMMARY:Les 6: Bier aan tafel.
DESCRIPTION:Docent: Hubert Heckert.
URL:https://stibon.nl/event/les-6-bier-aan-tafel-30/
LOCATION:Gulpener Brouwlokaal\, Rijksweg 19A\, Gulpen\, 6271AB
CATEGORIES:Gulpen,StiBON Bierambassadeur 1
ATTACH;FMTTYPE=image/jpeg:https://stibon.nl/app/uploads/2022/12/Hubert-Hecker-e1698056594687.jpg
END:VEVENT
BEGIN:VEVENT
DTSTART;TZID=Europe/Amsterdam:20230530T090000
DTEND;TZID=Europe/Amsterdam:20230530T170000
DTSTAMP:20260420T230316
CREATED:20221219T133220Z
LAST-MODIFIED:20221219T133220Z
UID:11894-1685437200-1685466000@stibon.nl
SUMMARY:Les 7: Brouwen van het StiBON bier.
DESCRIPTION:Docent: Bas Jacob.
URL:https://stibon.nl/event/les-7-brouwen-van-het-stibon-bier-12/
LOCATION:Gulpener Brouwlokaal\, Rijksweg 19A\, Gulpen\, 6271AB
CATEGORIES:Gulpen,StiBON Bierambassadeur 2
ATTACH;FMTTYPE=image/jpeg:https://stibon.nl/app/uploads/2020/10/Foto-Bas-Jacob-Gulpener1.jpg
END:VEVENT
END:VCALENDAR