BEGIN:VCALENDAR
VERSION:2.0
PRODID:-//Stibon - ECPv6.11.2//NONSGML v1.0//EN
CALSCALE:GREGORIAN
METHOD:PUBLISH
X-ORIGINAL-URL:https://stibon.nl
X-WR-CALDESC:Evenementen voor Stibon
REFRESH-INTERVAL;VALUE=DURATION:PT1H
X-Robots-Tag:noindex
X-PUBLISHED-TTL:PT1H
BEGIN:VTIMEZONE
TZID:Europe/Amsterdam
BEGIN:DAYLIGHT
TZOFFSETFROM:+0100
TZOFFSETTO:+0200
TZNAME:CEST
DTSTART:20220327T010000
END:DAYLIGHT
BEGIN:STANDARD
TZOFFSETFROM:+0200
TZOFFSETTO:+0100
TZNAME:CET
DTSTART:20221030T010000
END:STANDARD
END:VTIMEZONE
BEGIN:VEVENT
DTSTART;TZID=Europe/Amsterdam:20221121T090000
DTEND;TZID=Europe/Amsterdam:20221121T130000
DTSTAMP:20260421T105240
CREATED:20220723T131652Z
LAST-MODIFIED:20220723T131652Z
UID:9927-1669021200-1669035600@stibon.nl
SUMMARY:Les 1: Theorie en praktijk van het proeven.
DESCRIPTION:Docent: Pieter Gasthuis
URL:https://stibon.nl/event/les-1-theorie-en-praktijk-van-het-proeven-22/
LOCATION:Gulpener Brouwlokaal\, Rijksweg 19A\, Gulpen\, 6271AB
CATEGORIES:Gulpen,StiBON Bierambassadeur 1
ATTACH;FMTTYPE=image/jpeg:https://stibon.nl/app/uploads/2020/10/Pieter-Zwaan1.jpg
END:VEVENT
BEGIN:VEVENT
DTSTART;TZID=Europe/Amsterdam:20221121T140000
DTEND;TZID=Europe/Amsterdam:20221121T180000
DTSTAMP:20260421T105240
CREATED:20220723T131855Z
LAST-MODIFIED:20220723T131855Z
UID:9929-1669039200-1669053600@stibon.nl
SUMMARY:Les 2: Grondstoffen\, wetgeving en sociale hygiëne.
DESCRIPTION:Docent: Adjo Pot
URL:https://stibon.nl/event/les-2-grondstoffen-wetgeving-en-sociale-hygiene-26/
LOCATION:Gulpener Brouwlokaal\, Rijksweg 19A\, Gulpen\, 6271AB
CATEGORIES:Gulpen,StiBON Bierambassadeur 1
ATTACH;FMTTYPE=image/jpeg:https://stibon.nl/app/uploads/2020/03/Adjo-Pot-Stibon6-204x174-1.jpg
END:VEVENT
BEGIN:VEVENT
DTSTART;TZID=Europe/Amsterdam:20221122T090000
DTEND;TZID=Europe/Amsterdam:20221122T130000
DTSTAMP:20260421T105240
CREATED:20220723T132557Z
LAST-MODIFIED:20221025T111231Z
UID:9935-1669107600-1669122000@stibon.nl
SUMMARY:Les 3: Historie\, trends en bier & gezondheid.
DESCRIPTION:Docent: David van Term
URL:https://stibon.nl/event/les-3-historie-trends-en-bier-gezondheid-23/
LOCATION:Gulpener Brouwlokaal\, Rijksweg 19A\, Gulpen\, 6271AB
CATEGORIES:Gulpen,StiBON Bierambassadeur 1
ATTACH;FMTTYPE=image/png:https://stibon.nl/app/uploads/2020/10/David-v-T-e1623232627990.png
END:VEVENT
BEGIN:VEVENT
DTSTART;TZID=Europe/Amsterdam:20221122T140000
DTEND;TZID=Europe/Amsterdam:20221122T180000
DTSTAMP:20260421T105240
CREATED:20220723T132350Z
LAST-MODIFIED:20220723T132350Z
UID:9933-1669125600-1669140000@stibon.nl
SUMMARY:Les 4: Brouwproces.
DESCRIPTION:Docent: Bas Jacob
URL:https://stibon.nl/event/les-4-brouwproces-25/
LOCATION:Gulpener Brouwlokaal\, Rijksweg 19A\, Gulpen\, 6271AB
CATEGORIES:Gulpen,StiBON Bierambassadeur 1
ATTACH;FMTTYPE=image/jpeg:https://stibon.nl/app/uploads/2020/10/Foto-Bas-Jacob-Gulpener1.jpg
END:VEVENT
BEGIN:VEVENT
DTSTART;TZID=Europe/Amsterdam:20221123T090000
DTEND;TZID=Europe/Amsterdam:20221123T130000
DTSTAMP:20260421T105240
CREATED:20220723T132117Z
LAST-MODIFIED:20221025T111200Z
UID:9931-1669194000-1669208400@stibon.nl
SUMMARY:Les 5: Bierbehandeling en opslag.
DESCRIPTION:Docent: Gabriel Keijmis
URL:https://stibon.nl/event/les-5-bierbehandeling-en-opslag-24/
LOCATION:Gulpener Brouwlokaal\, Rijksweg 19A\, Gulpen\, 6271AB
CATEGORIES:Gulpen,StiBON Bierambassadeur 1
ATTACH;FMTTYPE=image/jpeg:https://stibon.nl/app/uploads/2022/02/Gabi_2019-e1645093024392.jpg
END:VEVENT
BEGIN:VEVENT
DTSTART;TZID=Europe/Amsterdam:20221123T140000
DTEND;TZID=Europe/Amsterdam:20221123T180000
DTSTAMP:20260421T105240
CREATED:20220723T132801Z
LAST-MODIFIED:20220723T132801Z
UID:9937-1669212000-1669226400@stibon.nl
SUMMARY:Les 6: Bier aan tafel.
DESCRIPTION:Docent: Derek Walsh
URL:https://stibon.nl/event/les-6-bier-aan-tafel-23/
LOCATION:Gulpener Brouwlokaal\, Rijksweg 19A\, Gulpen\, 6271AB
CATEGORIES:Gulpen,StiBON Bierambassadeur 1
ATTACH;FMTTYPE=image/png:https://stibon.nl/app/uploads/2020/04/Derek-204x174-1.png
END:VEVENT
END:VCALENDAR