BEGIN:VCALENDAR
VERSION:2.0
PRODID:-//Stibon - ECPv6.11.2//NONSGML v1.0//EN
CALSCALE:GREGORIAN
METHOD:PUBLISH
X-WR-CALNAME:Stibon
X-ORIGINAL-URL:https://stibon.nl
X-WR-CALDESC:Evenementen voor Stibon
REFRESH-INTERVAL;VALUE=DURATION:PT1H
X-Robots-Tag:noindex
X-PUBLISHED-TTL:PT1H
BEGIN:VTIMEZONE
TZID:Europe/Amsterdam
BEGIN:DAYLIGHT
TZOFFSETFROM:+0100
TZOFFSETTO:+0200
TZNAME:CEST
DTSTART:20220327T010000
END:DAYLIGHT
BEGIN:STANDARD
TZOFFSETFROM:+0200
TZOFFSETTO:+0100
TZNAME:CET
DTSTART:20221030T010000
END:STANDARD
END:VTIMEZONE
BEGIN:VEVENT
DTSTART;TZID=Europe/Amsterdam:20221001T090000
DTEND;TZID=Europe/Amsterdam:20221001T130000
DTSTAMP:20260421T121341
CREATED:20220725T121608Z
LAST-MODIFIED:20220725T121608Z
UID:9991-1664614800-1664629200@stibon.nl
SUMMARY:Les 4: Invloed van kruiden\, specerijen en hop op de smaak van het bier.
DESCRIPTION:Docent: Jan Willem den Hartog
URL:https://stibon.nl/event/les-4-invloed-van-kruiden-specerijen-en-hop-op-de-smaak-van-het-bier-10/
LOCATION:Herberg de Zwarte Ruiter\, Markt 4\, Gulpen
CATEGORIES:Gulpen,StiBON Bierambassadeur 2
ATTACH;FMTTYPE=image/jpeg:https://stibon.nl/app/uploads/2020/10/Hop-hop-en-nog-eens-hop-in-Reijmerstok4-e1645092263816.jpg
END:VEVENT
BEGIN:VEVENT
DTSTART;TZID=Europe/Amsterdam:20221001T140000
DTEND;TZID=Europe/Amsterdam:20221001T180000
DTSTAMP:20260421T121341
CREATED:20220725T121919Z
LAST-MODIFIED:20220725T121919Z
UID:9993-1664632800-1664647200@stibon.nl
SUMMARY:Les 8: Bierassortiment / kaas en bier.
DESCRIPTION:Docent: Rob Alphenaar en Arvid Bergström.
URL:https://stibon.nl/event/les-8-bierassortiment-kaas-en-bier-3/
LOCATION:Herberg de Zwarte Ruiter\, Markt 4\, Gulpen
CATEGORIES:Gulpen,StiBON Bierambassadeur 2
ATTACH;FMTTYPE=image/jpeg:https://stibon.nl/app/uploads/2021/08/Rob-Alphenaar-1.jpg
END:VEVENT
BEGIN:VEVENT
DTSTART;TZID=Europe/Amsterdam:20221002T160000
DTEND;TZID=Europe/Amsterdam:20221002T200000
DTSTAMP:20260421T121341
CREATED:20220725T122141Z
LAST-MODIFIED:20220725T122355Z
UID:9995-1664726400-1664740800@stibon.nl
SUMMARY:Les 10: Bier aan tafel / bier in de keuken.
DESCRIPTION:Docenten: Henri Reuchlin en Arvid Bergström.
URL:https://stibon.nl/event/les-10-bier-aan-tafel-bier-in-de-keuken-10/
LOCATION:Gulpener Brouwlokaal\, Rijksweg 19A\, Gulpen\, 6271AB
CATEGORIES:Gulpen,StiBON Bierambassadeur 2
ATTACH;FMTTYPE=image/jpeg:https://stibon.nl/app/uploads/2020/09/henri-1-e1645090149940.jpg
END:VEVENT
BEGIN:VEVENT
DTSTART;TZID=Europe/Amsterdam:20221003T090000
DTEND;TZID=Europe/Amsterdam:20221003T170000
DTSTAMP:20260421T121341
CREATED:20220725T122635Z
LAST-MODIFIED:20220725T122635Z
UID:9997-1664787600-1664816400@stibon.nl
SUMMARY:Les 7: Brouwen van het StiBON bier.
DESCRIPTION:Docent: Bas Jacob
URL:https://stibon.nl/event/les-7-brouwen-van-het-stibon-bier-9/
LOCATION:Gulpener Brouwlokaal\, Rijksweg 19A\, Gulpen\, 6271AB
CATEGORIES:Gulpen,StiBON Bierambassadeur 2
ATTACH;FMTTYPE=image/jpeg:https://stibon.nl/app/uploads/2020/10/Foto-Bas-Jacob-Gulpener1.jpg
END:VEVENT
BEGIN:VEVENT
DTSTART;TZID=Europe/Amsterdam:20221004T090000
DTEND;TZID=Europe/Amsterdam:20221004T130000
DTSTAMP:20260421T121341
CREATED:20220725T122949Z
LAST-MODIFIED:20220803T135917Z
UID:10003-1664874000-1664888400@stibon.nl
SUMMARY:Les 11: Bierproeverijen.
DESCRIPTION:Docent: Rick Kempen en n.n.b.
URL:https://stibon.nl/event/les-11-bierproeverijen-10/
LOCATION:Gulpener Brouwlokaal\, Rijksweg 19A\, Gulpen\, 6271AB
CATEGORIES:Gulpen,StiBON Bierambassadeur 2
ATTACH;FMTTYPE=image/png:https://stibon.nl/app/uploads/2021/08/Rik1.png
END:VEVENT
BEGIN:VEVENT
DTSTART;TZID=Europe/Amsterdam:20221004T140000
DTEND;TZID=Europe/Amsterdam:20221004T180000
DTSTAMP:20260421T121341
CREATED:20220725T123237Z
LAST-MODIFIED:20220906T091531Z
UID:10005-1664892000-1664906400@stibon.nl
SUMMARY:Les 5: Schenken en klantenbenadering in de horeca.
DESCRIPTION:Docenten: Yu Mey Kwee en Gabriel Keijmis.
URL:https://stibon.nl/event/les-5-schenken-en-klantenbenadering-in-de-horeca-8/
LOCATION:Gulpener Brouwlokaal\, Rijksweg 19A\, Gulpen\, 6271AB
CATEGORIES:Gulpen,StiBON Bierambassadeur 2
ATTACH;FMTTYPE=image/jpeg:https://stibon.nl/app/uploads/2020/04/Brand-1-204x174-1.jpg
END:VEVENT
BEGIN:VEVENT
DTSTART;TZID=Europe/Amsterdam:20221005T090000
DTEND;TZID=Europe/Amsterdam:20221005T130000
DTSTAMP:20260421T121341
CREATED:20220725T123524Z
LAST-MODIFIED:20220725T123524Z
UID:10007-1664960400-1664974800@stibon.nl
SUMMARY:Les 3: Trends
DESCRIPTION:Docent: Henri Reuchlin
URL:https://stibon.nl/event/les-3-trends-4/
LOCATION:Gulpener Brouwlokaal\, Rijksweg 19A\, Gulpen\, 6271AB
CATEGORIES:Gulpen,StiBON Bierambassadeur 2
ATTACH;FMTTYPE=image/jpeg:https://stibon.nl/app/uploads/2020/09/henri-1-e1645090149940.jpg
END:VEVENT
BEGIN:VEVENT
DTSTART;TZID=Europe/Amsterdam:20221005T140000
DTEND;TZID=Europe/Amsterdam:20221005T180000
DTSTAMP:20260421T121341
CREATED:20220725T123756Z
LAST-MODIFIED:20220908T125201Z
UID:10012-1664978400-1664992800@stibon.nl
SUMMARY:Les 12: Biercompetities\, biercocktails en epiloog.
DESCRIPTION:Docent: Henri Reuchlin en Karim Bouchta.
URL:https://stibon.nl/event/les-12-biercompetities-biercocktails-en-epiloog-9/
LOCATION:Gulpener Brouwlokaal\, Rijksweg 19A\, Gulpen\, 6271AB
CATEGORIES:Gulpen,StiBON Bierambassadeur 2
ATTACH;FMTTYPE=image/jpeg:https://stibon.nl/app/uploads/2020/09/henri-1-e1645090149940.jpg
END:VEVENT
END:VCALENDAR