BEGIN:VCALENDAR
VERSION:2.0
PRODID:-//Stibon - ECPv6.11.2//NONSGML v1.0//EN
CALSCALE:GREGORIAN
METHOD:PUBLISH
X-ORIGINAL-URL:https://stibon.nl
X-WR-CALDESC:Evenementen voor Stibon
REFRESH-INTERVAL;VALUE=DURATION:PT1H
X-Robots-Tag:noindex
X-PUBLISHED-TTL:PT1H
BEGIN:VTIMEZONE
TZID:Europe/Amsterdam
BEGIN:DAYLIGHT
TZOFFSETFROM:+0100
TZOFFSETTO:+0200
TZNAME:CEST
DTSTART:20220327T010000
END:DAYLIGHT
BEGIN:STANDARD
TZOFFSETFROM:+0200
TZOFFSETTO:+0100
TZNAME:CET
DTSTART:20221030T010000
END:STANDARD
BEGIN:DAYLIGHT
TZOFFSETFROM:+0100
TZOFFSETTO:+0200
TZNAME:CEST
DTSTART:20230326T010000
END:DAYLIGHT
BEGIN:STANDARD
TZOFFSETFROM:+0200
TZOFFSETTO:+0100
TZNAME:CET
DTSTART:20231029T010000
END:STANDARD
BEGIN:DAYLIGHT
TZOFFSETFROM:+0100
TZOFFSETTO:+0200
TZNAME:CEST
DTSTART:20240331T010000
END:DAYLIGHT
BEGIN:STANDARD
TZOFFSETFROM:+0200
TZOFFSETTO:+0100
TZNAME:CET
DTSTART:20241027T010000
END:STANDARD
END:VTIMEZONE
BEGIN:VEVENT
DTSTART;TZID=Europe/Amsterdam:20220607T183000
DTEND;TZID=Europe/Amsterdam:20220607T223000
DTSTAMP:20260421T024910
CREATED:20220201T153327Z
LAST-MODIFIED:20220217T102716Z
UID:7794-1654626600-1654641000@stibon.nl
SUMMARY:Les 8: Bierassortiment en proefnotities schrijven / kaas en bier.
DESCRIPTION:Docenten Rob Alphenaar en Arvid Bergström
URL:https://stibon.nl/event/les-8-bierassortiment-en-proefnotities-schrijven-kaas-en-bier-7/
LOCATION:Café de Toeter\,\, Turfsingel 6\, \, Groningen\, 9712 KP
CATEGORIES:Groningen,StiBON Bierambassadeur 2
ATTACH;FMTTYPE=image/jpeg:https://stibon.nl/app/uploads/2021/08/Rob-Alphenaar-1.jpg
END:VEVENT
BEGIN:VEVENT
DTSTART;TZID=Europe/Amsterdam:20220621T183000
DTEND;TZID=Europe/Amsterdam:20220621T223000
DTSTAMP:20260421T024910
CREATED:20220201T153703Z
LAST-MODIFIED:20220201T153703Z
UID:7796-1655836200-1655850600@stibon.nl
SUMMARY:Les 9: Bierlanden en hun biertypen.
DESCRIPTION:Docent: Derek Walsh
URL:https://stibon.nl/event/les-9-bierlanden-en-hun-biertypen-8/
LOCATION:Café de Toeter\,\, Turfsingel 6\, \, Groningen\, 9712 KP
CATEGORIES:Groningen,StiBON Bierambassadeur 2
ATTACH;FMTTYPE=image/png:https://stibon.nl/app/uploads/2020/04/Derek-204x174-1.png
END:VEVENT
BEGIN:VEVENT
DTSTART;TZID=Europe/Amsterdam:20220912T183000
DTEND;TZID=Europe/Amsterdam:20220912T223000
DTSTAMP:20260421T024910
CREATED:20220720T122002Z
LAST-MODIFIED:20220720T122242Z
UID:9819-1663007400-1663021800@stibon.nl
SUMMARY:Les 1 Theorie en praktijk van het proeven
DESCRIPTION:Docent: Yu Mey Kwee
URL:https://stibon.nl/event/stibon-bierambassadeur-1-groningen/
LOCATION:De Graansilo\, Griffeweg 4a\, \, Groningen.\, Nederland
CATEGORIES:Groningen,StiBON Bierambassadeur 1
ATTACH;FMTTYPE=image/jpeg:https://stibon.nl/app/uploads/2020/04/Brand-1-204x174-1.jpg
END:VEVENT
BEGIN:VEVENT
DTSTART;TZID=Europe/Amsterdam:20220913T183000
DTEND;TZID=Europe/Amsterdam:20220913T223000
DTSTAMP:20260421T024910
CREATED:20220201T153938Z
LAST-MODIFIED:20220815T104154Z
UID:7798-1663093800-1663108200@stibon.nl
SUMMARY:Les 10: Bier aan tafel / bier in de keuken.
DESCRIPTION:Docenten: Docent Henri Reuchlin en Arvid Bergström
URL:https://stibon.nl/event/les-10-bier-aan-tafel-bier-in-de-keuken-8/
CATEGORIES:Groningen,StiBON Bierambassadeur 2
ATTACH;FMTTYPE=image/jpeg:https://stibon.nl/app/uploads/2020/09/henri-1-e1645090149940.jpg
END:VEVENT
BEGIN:VEVENT
DTSTART;TZID=Europe/Amsterdam:20220926T183000
DTEND;TZID=Europe/Amsterdam:20220926T223000
DTSTAMP:20260421T024910
CREATED:20220720T124037Z
LAST-MODIFIED:20220727T111722Z
UID:9825-1664217000-1664231400@stibon.nl
SUMMARY:Les 2: Grondstoffen\, wetgeving en sociale hygiëne.
DESCRIPTION:Docent; Do Bongers
URL:https://stibon.nl/event/les-2-grondstoffen-wetgeving-en-sociale-hygiene-20/
LOCATION:De Graansilo\, Griffeweg 4a\, \, Groningen.\, Nederland
CATEGORIES:Groningen,StiBON Bierambassadeur 1
ATTACH;FMTTYPE=image/jpeg:https://stibon.nl/app/uploads/2021/08/Do-Bongers-200x200-1.jpg
END:VEVENT
BEGIN:VEVENT
DTSTART;TZID=Europe/Amsterdam:20220927T183000
DTEND;TZID=Europe/Amsterdam:20220927T223000
DTSTAMP:20260421T024910
CREATED:20220201T154252Z
LAST-MODIFIED:20220201T154412Z
UID:7800-1664303400-1664317800@stibon.nl
SUMMARY:Les 11: Bierproeverijen.
DESCRIPTION:Docent: Rick Kempen
URL:https://stibon.nl/event/les-11-bierproeverijen-8/
LOCATION:Café de Toeter\,\, Turfsingel 6\, \, Groningen\, 9712 KP
CATEGORIES:Groningen,StiBON Bierambassadeur 2
ATTACH;FMTTYPE=image/png:https://stibon.nl/app/uploads/2021/08/Rik1.png
END:VEVENT
BEGIN:VEVENT
DTSTART;TZID=Europe/Amsterdam:20221010T183000
DTEND;TZID=Europe/Amsterdam:20221010T223000
DTSTAMP:20260421T024910
CREATED:20220720T124849Z
LAST-MODIFIED:20220720T124849Z
UID:9827-1665426600-1665441000@stibon.nl
SUMMARY:Les 3: Historie\, trends en bier & gezondheid.
DESCRIPTION:Docent: Bart van Kleef
URL:https://stibon.nl/event/les-3-historie-trends-en-bier-gezondheid-17/
LOCATION:De Graansilo\, Griffeweg 4a\, \, Groningen.\, Nederland
CATEGORIES:Groningen,StiBON Bierambassadeur 1
ATTACH;FMTTYPE=image/png:https://stibon.nl/app/uploads/2020/04/IMG_1168-e1554109699577-204x174-1.png
END:VEVENT
BEGIN:VEVENT
DTSTART;TZID=Europe/Amsterdam:20221011T183000
DTEND;TZID=Europe/Amsterdam:20221011T223000
DTSTAMP:20260421T024910
CREATED:20220201T154820Z
LAST-MODIFIED:20220908T125307Z
UID:7802-1665513000-1665527400@stibon.nl
SUMMARY:Les 12: Biercompetities\, biercocktails en epiloog.
DESCRIPTION:Docenten: Derek Walsh en Karim Bouchta.
URL:https://stibon.nl/event/les-12-biercompetities-biercocktails-en-epiloog-7/
LOCATION:Café de Toeter\,\, Turfsingel 6\, \, Groningen\, 9712 KP
CATEGORIES:Groningen,StiBON Bierambassadeur 2
ATTACH;FMTTYPE=image/png:https://stibon.nl/app/uploads/2020/04/Derek-204x174-1.png
END:VEVENT
BEGIN:VEVENT
DTSTART;TZID=Europe/Amsterdam:20221024T183000
DTEND;TZID=Europe/Amsterdam:20221024T223000
DTSTAMP:20260421T024910
CREATED:20220720T125158Z
LAST-MODIFIED:20220720T125158Z
UID:9829-1666636200-1666650600@stibon.nl
SUMMARY:Les 4: Brouwproces.
DESCRIPTION:Docent: Martijn Swierstra
URL:https://stibon.nl/event/les-4-brouwproces-19/
LOCATION:Brouwerij Martinus\, Kostersgang 32-34 \, Groningen\, 9711 CX
CATEGORIES:Groningen,StiBON Bierambassadeur 1
ATTACH;FMTTYPE=image/jpeg:https://stibon.nl/app/uploads/2020/06/Martijn.jpg
END:VEVENT
BEGIN:VEVENT
DTSTART;TZID=Europe/Amsterdam:20221107T183000
DTEND;TZID=Europe/Amsterdam:20221107T223000
DTSTAMP:20260421T024910
CREATED:20220720T125556Z
LAST-MODIFIED:20220720T125556Z
UID:9831-1667845800-1667860200@stibon.nl
SUMMARY:Les 5: Bierbehandeling en opslag.
DESCRIPTION:Docent: Maik van Heerd
URL:https://stibon.nl/event/les-5-bierbehandeling-en-opslag-18/
LOCATION:Café de Toeter\,\, Turfsingel 6\, \, Groningen\, 9712 KP
CATEGORIES:Groningen,StiBON Bierambassadeur 1
ATTACH;FMTTYPE=image/jpeg:https://stibon.nl/app/uploads/2020/06/van-Heerd-e1651653576112.jpg
END:VEVENT
BEGIN:VEVENT
DTSTART;TZID=Europe/Amsterdam:20221121T183000
DTEND;TZID=Europe/Amsterdam:20221121T223000
DTSTAMP:20260421T024910
CREATED:20220720T125907Z
LAST-MODIFIED:20220720T125907Z
UID:9833-1669055400-1669069800@stibon.nl
SUMMARY:Les 6: Bier aan tafel.
DESCRIPTION:Docent: Arvid Bergström.
URL:https://stibon.nl/event/les-6-bier-aan-tafel-17/
LOCATION:De Graansilo\, Griffeweg 4a\, \, Groningen.\, Nederland
CATEGORIES:Groningen,StiBON Bierambassadeur 1
ATTACH;FMTTYPE=image/jpeg:https://stibon.nl/app/uploads/2020/04/Arvid-Bergstrom1-204x174-1.jpg
END:VEVENT
BEGIN:VEVENT
DTSTART;TZID=Europe/Amsterdam:20240226T183000
DTEND;TZID=Europe/Amsterdam:20240226T223000
DTSTAMP:20260421T024910
CREATED:20240104T111534Z
LAST-MODIFIED:20240104T111534Z
UID:16230-1708972200-1708986600@stibon.nl
SUMMARY:Les 1: Theorie en praktijk van het proeven
DESCRIPTION:Docent: Yu Mey Kwee
URL:https://stibon.nl/event/les-1-theorie-en-praktijk-van-het-proeven-37/
LOCATION:Brouwerij de Prael Groningen\, Boterdiep 75\, Groningen\, 9712 LL
CATEGORIES:Groningen,StiBON Bierambassadeur 1
ATTACH;FMTTYPE=image/jpeg:https://stibon.nl/app/uploads/2020/04/Brand-1-204x174-1.jpg
END:VEVENT
BEGIN:VEVENT
DTSTART;TZID=Europe/Amsterdam:20240408T183000
DTEND;TZID=Europe/Amsterdam:20240408T223000
DTSTAMP:20260421T024910
CREATED:20240104T122753Z
LAST-MODIFIED:20240403T134259Z
UID:16239-1712601000-1712615400@stibon.nl
SUMMARY:Les 4: Brouwproces
DESCRIPTION:Docent: Hans Noorman i.s.m. brouwer van de Prael Groningen
URL:https://stibon.nl/event/les-4-brouwproces-42/
LOCATION:Brouwerij de Prael Groningen\, Boterdiep 75\, Groningen\, 9712 LL
CATEGORIES:Groningen,StiBON Bierambassadeur 1
ATTACH;FMTTYPE=image/jpeg:https://stibon.nl/app/uploads/2020/04/stibon-fav.jpg
END:VEVENT
END:VCALENDAR