BEGIN:VCALENDAR
VERSION:2.0
PRODID:-//Stibon - ECPv6.11.2//NONSGML v1.0//EN
CALSCALE:GREGORIAN
METHOD:PUBLISH
X-ORIGINAL-URL:https://stibon.nl
X-WR-CALDESC:Evenementen voor Stibon
REFRESH-INTERVAL;VALUE=DURATION:PT1H
X-Robots-Tag:noindex
X-PUBLISHED-TTL:PT1H
BEGIN:VTIMEZONE
TZID:Europe/Amsterdam
BEGIN:DAYLIGHT
TZOFFSETFROM:+0100
TZOFFSETTO:+0200
TZNAME:CEST
DTSTART:20220327T010000
END:DAYLIGHT
BEGIN:STANDARD
TZOFFSETFROM:+0200
TZOFFSETTO:+0100
TZNAME:CET
DTSTART:20221030T010000
END:STANDARD
END:VTIMEZONE
BEGIN:VEVENT
DTSTART;TZID=Europe/Amsterdam:20221011T183000
DTEND;TZID=Europe/Amsterdam:20221011T223000
DTSTAMP:20260420T195306
CREATED:20220201T154820Z
LAST-MODIFIED:20220908T125307Z
UID:7802-1665513000-1665527400@stibon.nl
SUMMARY:Les 12: Biercompetities\, biercocktails en epiloog.
DESCRIPTION:Docenten: Derek Walsh en Karim Bouchta.
URL:https://stibon.nl/event/les-12-biercompetities-biercocktails-en-epiloog-7/
LOCATION:Café de Toeter\,\, Turfsingel 6\, \, Groningen\, 9712 KP
CATEGORIES:Groningen,StiBON Bierambassadeur 2
ATTACH;FMTTYPE=image/png:https://stibon.nl/app/uploads/2020/04/Derek-204x174-1.png
END:VEVENT
END:VCALENDAR