BEGIN:VCALENDAR
VERSION:2.0
PRODID:-//Stibon - ECPv6.11.2//NONSGML v1.0//EN
CALSCALE:GREGORIAN
METHOD:PUBLISH
X-ORIGINAL-URL:https://stibon.nl
X-WR-CALDESC:Evenementen voor Stibon
REFRESH-INTERVAL;VALUE=DURATION:PT1H
X-Robots-Tag:noindex
X-PUBLISHED-TTL:PT1H
BEGIN:VTIMEZONE
TZID:Europe/Amsterdam
BEGIN:DAYLIGHT
TZOFFSETFROM:+0100
TZOFFSETTO:+0200
TZNAME:CEST
DTSTART:20220327T010000
END:DAYLIGHT
BEGIN:STANDARD
TZOFFSETFROM:+0200
TZOFFSETTO:+0100
TZNAME:CET
DTSTART:20221030T010000
END:STANDARD
END:VTIMEZONE
BEGIN:VEVENT
DTSTART;TZID=Europe/Amsterdam:20221010T183000
DTEND;TZID=Europe/Amsterdam:20221010T223000
DTSTAMP:20260420T195307
CREATED:20220720T124849Z
LAST-MODIFIED:20220720T124849Z
UID:9827-1665426600-1665441000@stibon.nl
SUMMARY:Les 3: Historie\, trends en bier & gezondheid.
DESCRIPTION:Docent: Bart van Kleef
URL:https://stibon.nl/event/les-3-historie-trends-en-bier-gezondheid-17/
LOCATION:De Graansilo\, Griffeweg 4a\, \, Groningen.\, Nederland
CATEGORIES:Groningen,StiBON Bierambassadeur 1
ATTACH;FMTTYPE=image/png:https://stibon.nl/app/uploads/2020/04/IMG_1168-e1554109699577-204x174-1.png
END:VEVENT
END:VCALENDAR