BEGIN:VCALENDAR
VERSION:2.0
PRODID:-//Stibon - ECPv6.11.2//NONSGML v1.0//EN
CALSCALE:GREGORIAN
METHOD:PUBLISH
X-WR-CALNAME:Stibon
X-ORIGINAL-URL:https://stibon.nl
X-WR-CALDESC:Evenementen voor Stibon
REFRESH-INTERVAL;VALUE=DURATION:PT1H
X-Robots-Tag:noindex
X-PUBLISHED-TTL:PT1H
BEGIN:VTIMEZONE
TZID:Europe/Amsterdam
BEGIN:DAYLIGHT
TZOFFSETFROM:+0100
TZOFFSETTO:+0200
TZNAME:CEST
DTSTART:20220327T010000
END:DAYLIGHT
BEGIN:STANDARD
TZOFFSETFROM:+0200
TZOFFSETTO:+0100
TZNAME:CET
DTSTART:20221030T010000
END:STANDARD
END:VTIMEZONE
BEGIN:VEVENT
DTSTART;TZID=Europe/Amsterdam:20220510T183000
DTEND;TZID=Europe/Amsterdam:20220510T223000
DTSTAMP:20260421T040357
CREATED:20220201T152158Z
LAST-MODIFIED:20220408T065918Z
UID:7789-1652207400-1652221800@stibon.nl
SUMMARY:Les 3: Trends.
DESCRIPTION:Docent: Henri Reuchlin (i.p.v. les 6)
URL:https://stibon.nl/event/les-6-gist-7/
LOCATION:Café de Toeter\,\, Turfsingel 6\, \, Groningen\, 9712 KP
CATEGORIES:Groningen,StiBON Bierambassadeur 2
ATTACH;FMTTYPE=image/jpeg:https://stibon.nl/app/uploads/2020/09/henri-1-e1645090149940.jpg
END:VEVENT
END:VCALENDAR