BEGIN:VCALENDAR
VERSION:2.0
PRODID:-//Stibon - ECPv6.11.2//NONSGML v1.0//EN
CALSCALE:GREGORIAN
METHOD:PUBLISH
X-ORIGINAL-URL:https://stibon.nl
X-WR-CALDESC:Evenementen voor Stibon
REFRESH-INTERVAL;VALUE=DURATION:PT1H
X-Robots-Tag:noindex
X-PUBLISHED-TTL:PT1H
BEGIN:VTIMEZONE
TZID:Europe/Amsterdam
BEGIN:DAYLIGHT
TZOFFSETFROM:+0100
TZOFFSETTO:+0200
TZNAME:CEST
DTSTART:20220327T010000
END:DAYLIGHT
BEGIN:STANDARD
TZOFFSETFROM:+0200
TZOFFSETTO:+0100
TZNAME:CET
DTSTART:20221030T010000
END:STANDARD
END:VTIMEZONE
BEGIN:VEVENT
DTSTART;TZID=Europe/Amsterdam:20220315T183000
DTEND;TZID=Europe/Amsterdam:20220315T223000
DTSTAMP:20260421T072055
CREATED:20220201T145756Z
LAST-MODIFIED:20220210T091442Z
UID:7778-1647369000-1647383400@stibon.nl
SUMMARY:Les 2: Invloed van water\, graan\, moutsoorten\, vruchten en zoetstoffen op de smaak van het bier.
DESCRIPTION:Docent: Onno Raspe
URL:https://stibon.nl/event/les-2-les-2-invloed-van-water-graan-moutsoorten-vruchten-en-zoetstoffen-op-de-smaak-van-het-bier/
LOCATION:Café de Toeter\,\, Turfsingel 6\, \, Groningen\, 9712 KP
CATEGORIES:Groningen,StiBON Bierambassadeur 2
ATTACH;FMTTYPE=image/jpeg:https://stibon.nl/app/uploads/2020/09/download-e1599747757999.jpg
END:VEVENT
END:VCALENDAR