BEGIN:VCALENDAR
VERSION:2.0
PRODID:-//Stibon - ECPv6.11.2//NONSGML v1.0//EN
CALSCALE:GREGORIAN
METHOD:PUBLISH
X-WR-CALNAME:Stibon
X-ORIGINAL-URL:https://stibon.nl
X-WR-CALDESC:Evenementen voor Stibon
REFRESH-INTERVAL;VALUE=DURATION:PT1H
X-Robots-Tag:noindex
X-PUBLISHED-TTL:PT1H
BEGIN:VTIMEZONE
TZID:Europe/Amsterdam
BEGIN:DAYLIGHT
TZOFFSETFROM:+0100
TZOFFSETTO:+0200
TZNAME:CEST
DTSTART:20220327T010000
END:DAYLIGHT
BEGIN:STANDARD
TZOFFSETFROM:+0200
TZOFFSETTO:+0100
TZNAME:CET
DTSTART:20221030T010000
END:STANDARD
END:VTIMEZONE
BEGIN:VEVENT
DTSTART;TZID=Europe/Amsterdam:20220401T140000
DTEND;TZID=Europe/Amsterdam:20220401T180000
DTSTAMP:20260421T040153
CREATED:20220201T161104Z
LAST-MODIFIED:20220201T161104Z
UID:7812-1648821600-1648836000@stibon.nl
SUMMARY:Les 9: Bierlanden en hun biertypen.
DESCRIPTION:Docent: Derek Walsh
URL:https://stibon.nl/event/les-9-bierlanden-en-hun-biertypen-9/
LOCATION:Herberg de Zwarte Ruiter\, Markt 4\, Gulpen
CATEGORIES:Groningen,StiBON Bierambassadeur 2
ATTACH;FMTTYPE=image/png:https://stibon.nl/app/uploads/2020/04/Derek-204x174-1.png
END:VEVENT
BEGIN:VEVENT
DTSTART;TZID=Europe/Amsterdam:20220402T090000
DTEND;TZID=Europe/Amsterdam:20220402T130000
DTSTAMP:20260421T040153
CREATED:20220201T161333Z
LAST-MODIFIED:20220201T161333Z
UID:7814-1648890000-1648904400@stibon.nl
SUMMARY:Les 4: Invloed van kruiden\, specerijen en hop op de smaak van het bier.
DESCRIPTION:Docent: Jan Willem den Hartog
URL:https://stibon.nl/event/les-4-invloed-van-kruiden-specerijen-en-hop-op-de-smaak-van-het-bier-9/
LOCATION:Herberg de Zwarte Ruiter\, Markt 4\, Gulpen
CATEGORIES:Groningen,StiBON Bierambassadeur 2
ATTACH;FMTTYPE=image/jpeg:https://stibon.nl/app/uploads/2020/10/Hop-hop-en-nog-eens-hop-in-Reijmerstok4-e1645092263816.jpg
END:VEVENT
BEGIN:VEVENT
DTSTART;TZID=Europe/Amsterdam:20220405T090000
DTEND;TZID=Europe/Amsterdam:20220405T130000
DTSTAMP:20260421T040153
CREATED:20220201T162431Z
LAST-MODIFIED:20220216T164056Z
UID:7823-1649149200-1649163600@stibon.nl
SUMMARY:Les 11: Bierproeverijen.
DESCRIPTION:Docent: Rick Kempen
URL:https://stibon.nl/event/les-11-bierproeverijen-9/
LOCATION:Gulpener Brouwlokaal\, Rijksweg 19A\, Gulpen\, 6271AB
CATEGORIES:Groningen,StiBON Bierambassadeur 2
ATTACH;FMTTYPE=image/png:https://stibon.nl/app/uploads/2021/08/Rik1.png
END:VEVENT
BEGIN:VEVENT
DTSTART;TZID=Europe/Amsterdam:20220412T183000
DTEND;TZID=Europe/Amsterdam:20220412T223000
DTSTAMP:20260421T040153
CREATED:20220201T150932Z
LAST-MODIFIED:20220201T151014Z
UID:7784-1649788200-1649802600@stibon.nl
SUMMARY:Les 4: Invloed van kruiden\, specerijen en hop op de smaak van het bier.
DESCRIPTION:Docent: Jan Willem den Hartog
URL:https://stibon.nl/event/les-4-invloed-van-kruiden-specerijen-en-hop-op-de-smaak-van-het-bier-8/
LOCATION:Café de Toeter\,\, Turfsingel 6\, \, Groningen\, 9712 KP
CATEGORIES:Groningen,StiBON Bierambassadeur 2
ATTACH;FMTTYPE=image/jpeg:https://stibon.nl/app/uploads/2020/10/Hop-hop-en-nog-eens-hop-in-Reijmerstok4-e1645092263816.jpg
END:VEVENT
BEGIN:VEVENT
DTSTART;TZID=Europe/Amsterdam:20220424T120000
DTEND;TZID=Europe/Amsterdam:20220424T160000
DTSTAMP:20260421T040153
CREATED:20220201T151230Z
LAST-MODIFIED:20220217T091017Z
UID:7786-1650801600-1650816000@stibon.nl
SUMMARY:Les 5: Schenken en klantenbenadering in de horeca
DESCRIPTION:Docent: Yu Mey Kwee en Simon Fokkema
URL:https://stibon.nl/event/les-5-schenken-en-klantenbenadering-in-de-horeca-6/
LOCATION:Café de Toeter\,\, Turfsingel 6\, \, Groningen\, 9712 KP
CATEGORIES:Groningen,StiBON Bierambassadeur 2
ATTACH;FMTTYPE=image/jpeg:https://stibon.nl/app/uploads/2020/04/Brand-1-204x174-1.jpg
END:VEVENT
END:VCALENDAR