BEGIN:VCALENDAR
VERSION:2.0
PRODID:-//Stibon - ECPv6.11.2//NONSGML v1.0//EN
CALSCALE:GREGORIAN
METHOD:PUBLISH
X-ORIGINAL-URL:https://stibon.nl
X-WR-CALDESC:Evenementen voor Stibon
REFRESH-INTERVAL;VALUE=DURATION:PT1H
X-Robots-Tag:noindex
X-PUBLISHED-TTL:PT1H
BEGIN:VTIMEZONE
TZID:Europe/Amsterdam
BEGIN:DAYLIGHT
TZOFFSETFROM:+0100
TZOFFSETTO:+0200
TZNAME:CEST
DTSTART:20210328T010000
END:DAYLIGHT
BEGIN:STANDARD
TZOFFSETFROM:+0200
TZOFFSETTO:+0100
TZNAME:CET
DTSTART:20211031T010000
END:STANDARD
END:VTIMEZONE
BEGIN:VEVENT
DTSTART;TZID=Europe/Amsterdam:20210607T183000
DTEND;TZID=Europe/Amsterdam:20210607T220000
DTSTAMP:20260421T201651
CREATED:20200610T192859Z
LAST-MODIFIED:20210609T100714Z
UID:1207-1623090600-1623103200@stibon.nl
SUMMARY:Les 2: Grondstoffen\, wetgeving en sociale hygiëne Groningen 2020
DESCRIPTION:Docent: Jurjen Verver
URL:https://stibon.nl/event/les-2-bierambassadeur-1-groningen-grondstoffen-wetgeving-en-sociale-hygiene/
LOCATION:Bax Bier\, Friesestraatweg 201/2a \, Groningen\, 9743AC
CATEGORIES:Groningen,Groningen,StiBON Bierambassadeur 1
ATTACH;FMTTYPE=image/jpeg:https://stibon.nl/app/uploads/2020/04/Jurjen_Bier_Drinkend_2-2-204x174-1.jpg
END:VEVENT
BEGIN:VEVENT
DTSTART;TZID=Europe/Amsterdam:20210614T183000
DTEND;TZID=Europe/Amsterdam:20210614T220000
DTSTAMP:20260421T201651
CREATED:20200610T191639Z
LAST-MODIFIED:20210514T102701Z
UID:1199-1623695400-1623708000@stibon.nl
SUMMARY:Les 5: Bierbehandeling en Opslag
DESCRIPTION:Docent: Maik van Heerd
URL:https://stibon.nl/event/les-5-bierambassadeur-1-groningen-bierbehandeling-en-opslag/
LOCATION:Bax Bier\, Friesestraatweg 201/2a \, Groningen\, 9743AC
CATEGORIES:Groningen,StiBON Bierambassadeur 1
ATTACH;FMTTYPE=image/jpeg:https://stibon.nl/app/uploads/2020/06/van-Heerd-e1651653576112.jpg
END:VEVENT
BEGIN:VEVENT
DTSTART;TZID=Europe/Amsterdam:20210621T183000
DTEND;TZID=Europe/Amsterdam:20210621T220000
DTSTAMP:20260421T201651
CREATED:20200611T144011Z
LAST-MODIFIED:20210514T103303Z
UID:1202-1624300200-1624312800@stibon.nl
SUMMARY:Les 4: Brouwproces
DESCRIPTION:Docent: Martijn Swierstra
URL:https://stibon.nl/event/les-4-groningen-bierambassadeur-1-brouwproces/
LOCATION:Brouwerij Martinus\, Kostersgang 32-34 \, Groningen\, 9711CX
CATEGORIES:Groningen,Groningen,StiBON Bierambassadeur 1
ATTACH;FMTTYPE=image/jpeg:https://stibon.nl/app/uploads/2020/06/Martijn.jpg
END:VEVENT
BEGIN:VEVENT
DTSTART;TZID=Europe/Amsterdam:20210628T183000
DTEND;TZID=Europe/Amsterdam:20210628T220000
DTSTAMP:20260421T201651
CREATED:20200610T190955Z
LAST-MODIFIED:20210422T131105Z
UID:1197-1624905000-1624917600@stibon.nl
SUMMARY:Les 6: Bier aan tafel
DESCRIPTION:Docent: Marco Lauret
URL:https://stibon.nl/event/les-6-bierambassadeur-1-groningen-bier-aan-tafel/
LOCATION:Bax Bier\, Friesestraatweg 201/2a \, Groningen\, 9743AC
CATEGORIES:Groningen,StiBON Bierambassadeur 1
ATTACH;FMTTYPE=image/jpeg:https://stibon.nl/app/uploads/2020/04/marco-204x174-1.jpg
END:VEVENT
END:VCALENDAR