BEGIN:VCALENDAR
VERSION:2.0
PRODID:-//Stibon - ECPv6.11.2//NONSGML v1.0//EN
CALSCALE:GREGORIAN
METHOD:PUBLISH
X-WR-CALNAME:Stibon
X-ORIGINAL-URL:https://stibon.nl
X-WR-CALDESC:Evenementen voor Stibon
REFRESH-INTERVAL;VALUE=DURATION:PT1H
X-Robots-Tag:noindex
X-PUBLISHED-TTL:PT1H
BEGIN:VTIMEZONE
TZID:Europe/Amsterdam
BEGIN:DAYLIGHT
TZOFFSETFROM:+0100
TZOFFSETTO:+0200
TZNAME:CEST
DTSTART:20210328T010000
END:DAYLIGHT
BEGIN:STANDARD
TZOFFSETFROM:+0200
TZOFFSETTO:+0100
TZNAME:CET
DTSTART:20211031T010000
END:STANDARD
END:VTIMEZONE
BEGIN:VEVENT
DTSTART;TZID=Europe/Amsterdam:20210531T183000
DTEND;TZID=Europe/Amsterdam:20210531T220000
DTSTAMP:20260421T215147
CREATED:20200610T192613Z
LAST-MODIFIED:20210514T102529Z
UID:1205-1622485800-1622498400@stibon.nl
SUMMARY:Les 3: Historie\, Trends en bier & gezondheid
DESCRIPTION:Docent: Bart van Kleef
URL:https://stibon.nl/event/les-3-bierambassadeur-1-groningen-historie-trends-en-bier-gezondheid/
CATEGORIES:Groningen,StiBON Bierambassadeur 1
ATTACH;FMTTYPE=image/png:https://stibon.nl/app/uploads/2020/04/IMG_1168-e1554109699577-204x174-1.png
END:VEVENT
END:VCALENDAR