BEGIN:VCALENDAR
VERSION:2.0
PRODID:-//Stibon - ECPv6.11.2//NONSGML v1.0//EN
CALSCALE:GREGORIAN
METHOD:PUBLISH
X-WR-CALNAME:Stibon
X-ORIGINAL-URL:https://stibon.nl
X-WR-CALDESC:Evenementen voor Stibon
REFRESH-INTERVAL;VALUE=DURATION:PT1H
X-Robots-Tag:noindex
X-PUBLISHED-TTL:PT1H
BEGIN:VTIMEZONE
TZID:Europe/Amsterdam
BEGIN:DAYLIGHT
TZOFFSETFROM:+0100
TZOFFSETTO:+0200
TZNAME:CEST
DTSTART:20250330T010000
END:DAYLIGHT
BEGIN:STANDARD
TZOFFSETFROM:+0200
TZOFFSETTO:+0100
TZNAME:CET
DTSTART:20251026T010000
END:STANDARD
END:VTIMEZONE
BEGIN:VEVENT
DTSTART;TZID=Europe/Amsterdam:20250324T183000
DTEND;TZID=Europe/Amsterdam:20250324T223000
DTSTAMP:20260420T115616
CREATED:20240920T143710Z
LAST-MODIFIED:20250306T101508Z
UID:18045-1742841000-1742855400@stibon.nl
SUMMARY:N2 Amsterdam | Les 12: Biercompetities\, biercocktails en epiloog
DESCRIPTION:Locatie: Breugem Meeting Point \nDocenten: Maurus Wijman & Rick Kempen
URL:https://stibon.nl/event/n2-amsterdam-les-12-biercompetities-biercocktails-en-epiloog/
LOCATION:Breugem Meeting Point\, Nieuwe Heemweg 2\, Amsterdam\, 1013 BG\, Nederland
CATEGORIES:Amsterdam,StiBON Bierambassadeur 2
ATTACH;FMTTYPE=image/jpeg:https://stibon.nl/app/uploads/2020/04/IMG-20151203-WA0003-204x174-1.jpg
END:VEVENT
END:VCALENDAR