BEGIN:VCALENDAR
VERSION:2.0
PRODID:-//Stibon - ECPv6.11.2//NONSGML v1.0//EN
CALSCALE:GREGORIAN
METHOD:PUBLISH
X-ORIGINAL-URL:https://stibon.nl
X-WR-CALDESC:Evenementen voor Stibon
REFRESH-INTERVAL;VALUE=DURATION:PT1H
X-Robots-Tag:noindex
X-PUBLISHED-TTL:PT1H
BEGIN:VTIMEZONE
TZID:Europe/Amsterdam
BEGIN:DAYLIGHT
TZOFFSETFROM:+0100
TZOFFSETTO:+0200
TZNAME:CEST
DTSTART:20250330T010000
END:DAYLIGHT
BEGIN:STANDARD
TZOFFSETFROM:+0200
TZOFFSETTO:+0100
TZNAME:CET
DTSTART:20251026T010000
END:STANDARD
END:VTIMEZONE
BEGIN:VEVENT
DTSTART;TZID=Europe/Amsterdam:20250224T183000
DTEND;TZID=Europe/Amsterdam:20250224T223000
DTSTAMP:20260420T115641
CREATED:20240920T143215Z
LAST-MODIFIED:20240920T143215Z
UID:18041-1740421800-1740436200@stibon.nl
SUMMARY:N2 Amsterdam | Les 10: Bier aan tafel / bier in de keuken
DESCRIPTION:Locatie: Café Rootz \nDocenten: Arvid Bergström & Henri Reuchlin \nLet op! Deze locatie is in Den Haag\, niet in Amsterdam
URL:https://stibon.nl/event/n2-amsterdam-les-10-bier-aan-tafel-bier-in-de-keuken/
LOCATION:Café Rootz\, Grote Marktstraat 14\, Den Haag
CATEGORIES:Amsterdam,StiBON Bierambassadeur 2
ATTACH;FMTTYPE=image/jpeg:https://stibon.nl/app/uploads/2020/04/Arvid-Bergstrom1-204x174-1.jpg
END:VEVENT
END:VCALENDAR