BEGIN:VCALENDAR
VERSION:2.0
PRODID:-//Stibon - ECPv6.11.2//NONSGML v1.0//EN
CALSCALE:GREGORIAN
METHOD:PUBLISH
X-WR-CALNAME:Stibon
X-ORIGINAL-URL:https://stibon.nl
X-WR-CALDESC:Evenementen voor Stibon
REFRESH-INTERVAL;VALUE=DURATION:PT1H
X-Robots-Tag:noindex
X-PUBLISHED-TTL:PT1H
BEGIN:VTIMEZONE
TZID:Europe/Amsterdam
BEGIN:DAYLIGHT
TZOFFSETFROM:+0100
TZOFFSETTO:+0200
TZNAME:CEST
DTSTART:20250330T010000
END:DAYLIGHT
BEGIN:STANDARD
TZOFFSETFROM:+0200
TZOFFSETTO:+0100
TZNAME:CET
DTSTART:20251026T010000
END:STANDARD
END:VTIMEZONE
BEGIN:VEVENT
DTSTART;TZID=Europe/Amsterdam:20250210T183000
DTEND;TZID=Europe/Amsterdam:20250210T223000
DTSTAMP:20260420T132729
CREATED:20240920T143037Z
LAST-MODIFIED:20240920T143037Z
UID:18039-1739212200-1739226600@stibon.nl
SUMMARY:N2 Amsterdam | Les 9: Bierlanden en hun biertypen
DESCRIPTION:Locatie: Breugem Meeting Point \nDocent: Derek Walsh
URL:https://stibon.nl/event/n2-amsterdam-les-9-bierlanden-en-hun-biertypen/
LOCATION:Breugem Meeting Point\, Nieuwe Heemweg 2\, Amsterdam\, 1013 BG\, Nederland
CATEGORIES:Amsterdam,StiBON Bierambassadeur 2
ATTACH;FMTTYPE=image/png:https://stibon.nl/app/uploads/2020/04/Derek-204x174-1.png
END:VEVENT
END:VCALENDAR