BEGIN:VCALENDAR
VERSION:2.0
PRODID:-//Stibon - ECPv6.11.2//NONSGML v1.0//EN
CALSCALE:GREGORIAN
METHOD:PUBLISH
X-WR-CALNAME:Stibon
X-ORIGINAL-URL:https://stibon.nl
X-WR-CALDESC:Evenementen voor Stibon
REFRESH-INTERVAL;VALUE=DURATION:PT1H
X-Robots-Tag:noindex
X-PUBLISHED-TTL:PT1H
BEGIN:VTIMEZONE
TZID:Europe/Amsterdam
BEGIN:DAYLIGHT
TZOFFSETFROM:+0100
TZOFFSETTO:+0200
TZNAME:CEST
DTSTART:20240331T010000
END:DAYLIGHT
BEGIN:STANDARD
TZOFFSETFROM:+0200
TZOFFSETTO:+0100
TZNAME:CET
DTSTART:20241027T010000
END:STANDARD
END:VTIMEZONE
BEGIN:VEVENT
DTSTART;TZID=Europe/Amsterdam:20240506T183000
DTEND;TZID=Europe/Amsterdam:20240506T223000
DTSTAMP:20260421T041529
CREATED:20240104T143137Z
LAST-MODIFIED:20240104T143137Z
UID:16283-1715020200-1715034600@stibon.nl
SUMMARY:Les 5: Bierbehandeling en opslag
DESCRIPTION:Docent: Itamar Vos
URL:https://stibon.nl/event/les-5-bierbehandeling-en-opslag-42/
LOCATION:De Biertuin Centrum\, Prinsengracht 494 \, Amsterdam\, 1017 KH\, Nederland
CATEGORIES:Amsterdam,StiBON Bierambassadeur 1
ATTACH;FMTTYPE=image/jpeg:https://stibon.nl/app/uploads/2020/04/Foto-Itamar-Vos-204x174-1.jpg
END:VEVENT
END:VCALENDAR