BEGIN:VCALENDAR
VERSION:2.0
PRODID:-//Stibon - ECPv6.11.2//NONSGML v1.0//EN
CALSCALE:GREGORIAN
METHOD:PUBLISH
X-ORIGINAL-URL:https://stibon.nl
X-WR-CALDESC:Evenementen voor Stibon
REFRESH-INTERVAL;VALUE=DURATION:PT1H
X-Robots-Tag:noindex
X-PUBLISHED-TTL:PT1H
BEGIN:VTIMEZONE
TZID:Europe/Amsterdam
BEGIN:DAYLIGHT
TZOFFSETFROM:+0100
TZOFFSETTO:+0200
TZNAME:CEST
DTSTART:20240331T010000
END:DAYLIGHT
BEGIN:STANDARD
TZOFFSETFROM:+0200
TZOFFSETTO:+0100
TZNAME:CET
DTSTART:20241027T010000
END:STANDARD
END:VTIMEZONE
BEGIN:VEVENT
DTSTART;TZID=Europe/Amsterdam:20240226T183000
DTEND;TZID=Europe/Amsterdam:20240226T223000
DTSTAMP:20260421T072044
CREATED:20231023T120436Z
LAST-MODIFIED:20231026T142249Z
UID:15625-1708972200-1708986600@stibon.nl
SUMMARY:Les 10: Bier aan tafel / bier in de keuken
DESCRIPTION:Docenten: Arvid Bergström en Henri Reuchlin
URL:https://stibon.nl/event/les-10-bier-aan-tafel-bier-in-de-keuken-14/
LOCATION:Café Rootz\, Grote Marktstraat 14\, Den Haag
CATEGORIES:Amsterdam,StiBON Bierambassadeur 2
ATTACH;FMTTYPE=image/jpeg:https://stibon.nl/app/uploads/2020/04/Arvid-Bergstrom1-204x174-1.jpg
END:VEVENT
END:VCALENDAR