BEGIN:VCALENDAR
VERSION:2.0
PRODID:-//Stibon - ECPv6.11.2//NONSGML v1.0//EN
CALSCALE:GREGORIAN
METHOD:PUBLISH
X-ORIGINAL-URL:https://stibon.nl
X-WR-CALDESC:Evenementen voor Stibon
REFRESH-INTERVAL;VALUE=DURATION:PT1H
X-Robots-Tag:noindex
X-PUBLISHED-TTL:PT1H
BEGIN:VTIMEZONE
TZID:Europe/Amsterdam
BEGIN:DAYLIGHT
TZOFFSETFROM:+0100
TZOFFSETTO:+0200
TZNAME:CEST
DTSTART:20220327T010000
END:DAYLIGHT
BEGIN:STANDARD
TZOFFSETFROM:+0200
TZOFFSETTO:+0100
TZNAME:CET
DTSTART:20221030T010000
END:STANDARD
END:VTIMEZONE
BEGIN:VEVENT
DTSTART;TZID=Europe/Amsterdam:20220228T183000
DTEND;TZID=Europe/Amsterdam:20220228T223000
DTSTAMP:20260423T013024
CREATED:20211223T161505Z
LAST-MODIFIED:20220217T092920Z
UID:7324-1646073000-1646087400@stibon.nl
SUMMARY:Les 3: Trends en bierfolklore
DESCRIPTION:Docent: Henri Reuchlin
URL:https://stibon.nl/event/les-3-trends-en-bierfolklore-7/
LOCATION:ANNAkerk Amstelveen\, Amsterdamseweg 22\, \, Amstelveen\, 1182 HD
CATEGORIES:Amsterdam,StiBON Bierambassadeur 2
ATTACH;FMTTYPE=image/jpeg:https://stibon.nl/app/uploads/2020/09/henri-1-e1645090149940.jpg
END:VEVENT
END:VCALENDAR