BEGIN:VCALENDAR
VERSION:2.0
PRODID:-//Stibon - ECPv6.11.2//NONSGML v1.0//EN
CALSCALE:GREGORIAN
METHOD:PUBLISH
X-WR-CALNAME:Stibon
X-ORIGINAL-URL:https://stibon.nl
X-WR-CALDESC:Evenementen voor Stibon
REFRESH-INTERVAL;VALUE=DURATION:PT1H
X-Robots-Tag:noindex
X-PUBLISHED-TTL:PT1H
BEGIN:VTIMEZONE
TZID:Europe/Amsterdam
BEGIN:DAYLIGHT
TZOFFSETFROM:+0100
TZOFFSETTO:+0200
TZNAME:CEST
DTSTART:20210328T010000
END:DAYLIGHT
BEGIN:STANDARD
TZOFFSETFROM:+0200
TZOFFSETTO:+0100
TZNAME:CET
DTSTART:20211031T010000
END:STANDARD
END:VTIMEZONE
BEGIN:VEVENT
DTSTART;TZID=Europe/Amsterdam:20211101T183000
DTEND;TZID=Europe/Amsterdam:20211101T223000
DTSTAMP:20260423T072937
CREATED:20210816T070241Z
LAST-MODIFIED:20211012T111921Z
UID:5778-1635791400-1635805800@stibon.nl
SUMMARY:Lesson 4 English: Brewing process.
DESCRIPTION:Mentor: Etienne Vermeulen and Fer Kok
URL:https://stibon.nl/event/lesson-4-english-brewing-process/
LOCATION:Brouwerij de Prael\, Oudezijds Armsteeg 26 \, Amsterdam\, 1012 GP
CATEGORIES:Amsterdam,StiBON Bierambassadeur 1
ATTACH;FMTTYPE=image/jpeg:https://stibon.nl/app/uploads/2020/06/etienne-e1645091896978.jpg
END:VEVENT
END:VCALENDAR