BEGIN:VCALENDAR
VERSION:2.0
PRODID:-//Stibon - ECPv6.11.2//NONSGML v1.0//EN
CALSCALE:GREGORIAN
METHOD:PUBLISH
X-ORIGINAL-URL:https://stibon.nl
X-WR-CALDESC:Evenementen voor Stibon
REFRESH-INTERVAL;VALUE=DURATION:PT1H
X-Robots-Tag:noindex
X-PUBLISHED-TTL:PT1H
BEGIN:VTIMEZONE
TZID:Europe/Amsterdam
BEGIN:DAYLIGHT
TZOFFSETFROM:+0100
TZOFFSETTO:+0200
TZNAME:CEST
DTSTART:20240331T010000
END:DAYLIGHT
BEGIN:STANDARD
TZOFFSETFROM:+0200
TZOFFSETTO:+0100
TZNAME:CET
DTSTART:20241027T010000
END:STANDARD
END:VTIMEZONE
BEGIN:VEVENT
DTSTART;TZID=Europe/Amsterdam:20241104T183000
DTEND;TZID=Europe/Amsterdam:20241104T223000
DTSTAMP:20260420T164324
CREATED:20240920T142723Z
LAST-MODIFIED:20241029T074843Z
UID:18035-1730745000-1730759400@stibon.nl
SUMMARY:N2 Amsterdam | Les 6: Gist
DESCRIPTION:Locatie: Breugem Meeting Point \nDocent: André van der Zee
URL:https://stibon.nl/event/n2-amsterdam-les-6-gist/
LOCATION:Breugem Meeting Point\, Nieuwe Heemweg 2\, Amsterdam\, 1013 BG\, Nederland
CATEGORIES:Amsterdam,StiBON Bierambassadeur 2
ATTACH;FMTTYPE=image/jpeg:https://stibon.nl/app/uploads/2020/10/2018-AZ-Groningen3-e1645092009337.jpg
END:VEVENT
BEGIN:VEVENT
DTSTART;TZID=Europe/Amsterdam:20241118T183000
DTEND;TZID=Europe/Amsterdam:20241118T223000
DTSTAMP:20260420T164324
CREATED:20240920T142342Z
LAST-MODIFIED:20240920T142342Z
UID:18031-1731954600-1731969000@stibon.nl
SUMMARY:N2 Amsterdam  | Les 4:  Invloed van kruiden\, specerijen en hop op de smaak van het bier
DESCRIPTION:Locatie: Breugem Meeting Point \nDocent: Jan Willem Den Hartog
URL:https://stibon.nl/event/n2-amsterdam-les-4-invloed-van-kruiden-specerijen-en-hop-op-de-smaak-van-het-bier/
LOCATION:Breugem Meeting Point\, Nieuwe Heemweg 2\, Amsterdam\, 1013 BG\, Nederland
CATEGORIES:Amsterdam,StiBON Bierambassadeur 2
ATTACH;FMTTYPE=image/jpeg:https://stibon.nl/app/uploads/2020/10/Hop-hop-en-nog-eens-hop-in-Reijmerstok4-e1645092263816.jpg
END:VEVENT
END:VCALENDAR