BEGIN:VCALENDAR
VERSION:2.0
PRODID:-//Stibon - ECPv6.11.2//NONSGML v1.0//EN
CALSCALE:GREGORIAN
METHOD:PUBLISH
X-WR-CALNAME:Stibon
X-ORIGINAL-URL:https://stibon.nl
X-WR-CALDESC:Evenementen voor Stibon
REFRESH-INTERVAL;VALUE=DURATION:PT1H
X-Robots-Tag:noindex
X-PUBLISHED-TTL:PT1H
BEGIN:VTIMEZONE
TZID:Europe/Amsterdam
BEGIN:DAYLIGHT
TZOFFSETFROM:+0100
TZOFFSETTO:+0200
TZNAME:CEST
DTSTART:20240331T010000
END:DAYLIGHT
BEGIN:STANDARD
TZOFFSETFROM:+0200
TZOFFSETTO:+0100
TZNAME:CET
DTSTART:20241027T010000
END:STANDARD
END:VTIMEZONE
BEGIN:VEVENT
DTSTART;TZID=Europe/Amsterdam:20241014T183000
DTEND;TZID=Europe/Amsterdam:20241014T223000
DTSTAMP:20260420T181522
CREATED:20240920T141930Z
LAST-MODIFIED:20240920T141930Z
UID:18024-1728930600-1728945000@stibon.nl
SUMMARY:N2 Amsterdam | Les 1: Smaakafwijkingen en veroudering
DESCRIPTION:Locatie: Breugem Meeting Point \nDocent: Derek Walsh
URL:https://stibon.nl/event/n2-amsterdam-les-1-smaakafwijkingen-en-veroudering/
LOCATION:Breugem Meeting Point\, Nieuwe Heemweg 2\, Amsterdam\, 1013 BG\, Nederland
CATEGORIES:Amsterdam,StiBON Bierambassadeur 2
ATTACH;FMTTYPE=image/png:https://stibon.nl/app/uploads/2020/04/Derek-204x174-1.png
END:VEVENT
BEGIN:VEVENT
DTSTART;TZID=Europe/Amsterdam:20241021T183000
DTEND;TZID=Europe/Amsterdam:20241021T223000
DTSTAMP:20260420T181523
CREATED:20240920T142053Z
LAST-MODIFIED:20240920T142053Z
UID:18027-1729535400-1729549800@stibon.nl
SUMMARY:N2 Amsterdam | Les 2: Invloed van water\, graan\, moutsoorten\, vruchten en zoetstoffen op de smaak van het bier
DESCRIPTION:Locatie: Breugem Meeting Point \nDocent: Onno Raspe
URL:https://stibon.nl/event/n2-amsterdam-les-2-invloed-van-water-graan-moutsoorten-vruchten-en-zoetstoffen-op-de-smaak-van-het-bier/
LOCATION:Breugem Meeting Point\, Nieuwe Heemweg 2\, Amsterdam\, 1013 BG\, Nederland
CATEGORIES:Amsterdam,StiBON Bierambassadeur 2
ATTACH;FMTTYPE=image/jpeg:https://stibon.nl/app/uploads/2020/09/download-e1599747757999.jpg
END:VEVENT
END:VCALENDAR