BEGIN:VCALENDAR
VERSION:2.0
PRODID:-//Stibon - ECPv6.11.2//NONSGML v1.0//EN
CALSCALE:GREGORIAN
METHOD:PUBLISH
X-WR-CALNAME:Stibon
X-ORIGINAL-URL:https://stibon.nl
X-WR-CALDESC:Evenementen voor Stibon
REFRESH-INTERVAL;VALUE=DURATION:PT1H
X-Robots-Tag:noindex
X-PUBLISHED-TTL:PT1H
BEGIN:VTIMEZONE
TZID:Europe/Amsterdam
BEGIN:DAYLIGHT
TZOFFSETFROM:+0100
TZOFFSETTO:+0200
TZNAME:CEST
DTSTART:20240331T010000
END:DAYLIGHT
BEGIN:STANDARD
TZOFFSETFROM:+0200
TZOFFSETTO:+0100
TZNAME:CET
DTSTART:20241027T010000
END:STANDARD
END:VTIMEZONE
BEGIN:VEVENT
DTSTART;TZID=Europe/Amsterdam:20240916T193000
DTEND;TZID=Europe/Amsterdam:20240916T220000
DTSTAMP:20260420T195016
CREATED:20240904T072508Z
LAST-MODIFIED:20240904T072508Z
UID:17833-1726515000-1726524000@stibon.nl
SUMMARY:Masterclass | Whisky
DESCRIPTION:Spreker: Michael Bruynse \nLocatie: Café Zilt\, Amsterdam \n  \nKoop je ticket hier
URL:https://stibon.nl/event/masterclass-whisky/
LOCATION:Café Zilt\, Zeedijk 49\, Amsterdam\, 1012AR\, Nederland
CATEGORIES:Amsterdam,Masterclass
ATTACH;FMTTYPE=image/jpeg:https://stibon.nl/app/uploads/2024/06/Kleur-in-de-stad-1.jpg
END:VEVENT
END:VCALENDAR