BEGIN:VCALENDAR
VERSION:2.0
PRODID:-//Stibon - ECPv6.11.2//NONSGML v1.0//EN
CALSCALE:GREGORIAN
METHOD:PUBLISH
X-WR-CALNAME:Stibon
X-ORIGINAL-URL:https://stibon.nl
X-WR-CALDESC:Evenementen voor Stibon
REFRESH-INTERVAL;VALUE=DURATION:PT1H
X-Robots-Tag:noindex
X-PUBLISHED-TTL:PT1H
BEGIN:VTIMEZONE
TZID:Europe/Amsterdam
BEGIN:DAYLIGHT
TZOFFSETFROM:+0100
TZOFFSETTO:+0200
TZNAME:CEST
DTSTART:20240331T010000
END:DAYLIGHT
BEGIN:STANDARD
TZOFFSETFROM:+0200
TZOFFSETTO:+0100
TZNAME:CET
DTSTART:20241027T010000
END:STANDARD
END:VTIMEZONE
BEGIN:VEVENT
DTSTART;TZID=Europe/Amsterdam:20240408T183000
DTEND;TZID=Europe/Amsterdam:20240408T223000
DTSTAMP:20260421T040154
CREATED:20240104T142326Z
LAST-MODIFIED:20240104T142609Z
UID:16278-1712601000-1712615400@stibon.nl
SUMMARY:Les 3: Historie\, trends en bier & gezondheid
DESCRIPTION:Docent: Bart van Kleef
URL:https://stibon.nl/event/les-3-historie-trends-en-bier-gezondheid-40/
LOCATION:De Biertuin Centrum\, Prinsengracht 494 \, Amsterdam\, 1017 KH\, Nederland
CATEGORIES:Amsterdam,StiBON Bierambassadeur 1
ATTACH;FMTTYPE=image/jpeg:https://stibon.nl/app/uploads/2023/10/bart-van-kleef.jpg
END:VEVENT
BEGIN:VEVENT
DTSTART;TZID=Europe/Amsterdam:20240422T183000
DTEND;TZID=Europe/Amsterdam:20240422T223000
DTSTAMP:20260421T040154
CREATED:20240104T142859Z
LAST-MODIFIED:20240104T142939Z
UID:16281-1713810600-1713825000@stibon.nl
SUMMARY:Les 4: Brouwproces
DESCRIPTION:Docent: Fer Kok
URL:https://stibon.nl/event/les-4-brouwproces-45/
LOCATION:Brouwerij de Prael\, Oudezijds Armsteeg 26 \, Amsterdam\, 1012 GP
CATEGORIES:Amsterdam,StiBON Bierambassadeur 1
ATTACH;FMTTYPE=image/jpeg:https://stibon.nl/app/uploads/2024/01/images.jpg
END:VEVENT
END:VCALENDAR