BEGIN:VCALENDAR
VERSION:2.0
PRODID:-//Stibon - ECPv6.11.2//NONSGML v1.0//EN
CALSCALE:GREGORIAN
METHOD:PUBLISH
X-WR-CALNAME:Stibon
X-ORIGINAL-URL:https://stibon.nl
X-WR-CALDESC:Evenementen voor Stibon
REFRESH-INTERVAL;VALUE=DURATION:PT1H
X-Robots-Tag:noindex
X-PUBLISHED-TTL:PT1H
BEGIN:VTIMEZONE
TZID:Europe/Amsterdam
BEGIN:DAYLIGHT
TZOFFSETFROM:+0100
TZOFFSETTO:+0200
TZNAME:CEST
DTSTART:20240331T010000
END:DAYLIGHT
BEGIN:STANDARD
TZOFFSETFROM:+0200
TZOFFSETTO:+0100
TZNAME:CET
DTSTART:20241027T010000
END:STANDARD
END:VTIMEZONE
BEGIN:VEVENT
DTSTART;TZID=Europe/Amsterdam:20240304T183000
DTEND;TZID=Europe/Amsterdam:20240304T223000
DTSTAMP:20260421T053806
CREATED:20240104T141356Z
LAST-MODIFIED:20240104T141356Z
UID:16274-1709577000-1709591400@stibon.nl
SUMMARY:Les 1: Theorie en praktijk van het proeven
DESCRIPTION:Docent: Marco Lauret
URL:https://stibon.nl/event/les-1-theorie-en-praktijk-van-het-proeven-40/
LOCATION:De Biertuin Centrum\, Prinsengracht 494 \, Amsterdam\, 1017 KH\, Nederland
CATEGORIES:Amsterdam,StiBON Bierambassadeur 1
ATTACH;FMTTYPE=image/jpeg:https://stibon.nl/app/uploads/2020/04/marco-204x174-1.jpg
END:VEVENT
BEGIN:VEVENT
DTSTART;TZID=Europe/Amsterdam:20240311T183000
DTEND;TZID=Europe/Amsterdam:20240311T223000
DTSTAMP:20260421T053806
CREATED:20231023T120642Z
LAST-MODIFIED:20231023T120642Z
UID:15627-1710181800-1710196200@stibon.nl
SUMMARY:Les 11: Bierproeverijen
DESCRIPTION:Docent: Rick Kempen
URL:https://stibon.nl/event/les-11-bierproeverijen-14/
LOCATION:De Biertuin Centrum\, Prinsengracht 494 \, Amsterdam\, 1017 KH\, Nederland
CATEGORIES:Amsterdam,StiBON Bierambassadeur 2
ATTACH;FMTTYPE=image/png:https://stibon.nl/app/uploads/2021/08/Rik1.png
END:VEVENT
BEGIN:VEVENT
DTSTART;TZID=Europe/Amsterdam:20240319T183000
DTEND;TZID=Europe/Amsterdam:20240319T223000
DTSTAMP:20260421T053806
CREATED:20240104T141602Z
LAST-MODIFIED:20240104T141602Z
UID:16276-1710873000-1710887400@stibon.nl
SUMMARY:Les 2: Grondstoffen\, wetgeving en sociale hygiëne
DESCRIPTION:Docent: Etienne Vermeulen
URL:https://stibon.nl/event/les-2-grondstoffen-wetgeving-en-sociale-hygiene-44/
LOCATION:De Biertuin Centrum\, Prinsengracht 494 \, Amsterdam\, 1017 KH\, Nederland
CATEGORIES:Amsterdam,StiBON Bierambassadeur 1
ATTACH;FMTTYPE=image/jpeg:https://stibon.nl/app/uploads/2020/06/etienne-e1645091896978.jpg
END:VEVENT
BEGIN:VEVENT
DTSTART;TZID=Europe/Amsterdam:20240325T183000
DTEND;TZID=Europe/Amsterdam:20240325T223000
DTSTAMP:20260421T053806
CREATED:20231023T120844Z
LAST-MODIFIED:20231026T142649Z
UID:15629-1711391400-1711405800@stibon.nl
SUMMARY:Les 12: Biercompetities\, biercocktails en epiloog
DESCRIPTION:Docent: Derek Walsh en n.n.b.
URL:https://stibon.nl/event/les-12-biercompetities-biercocktails-en-epiloog-15/
LOCATION:De Biertuin Centrum\, Prinsengracht 494 \, Amsterdam\, 1017 KH\, Nederland
CATEGORIES:Amsterdam,StiBON Bierambassadeur 2
ATTACH;FMTTYPE=image/png:https://stibon.nl/app/uploads/2020/04/Derek-204x174-1.png
END:VEVENT
END:VCALENDAR