BEGIN:VCALENDAR
VERSION:2.0
PRODID:-//Stibon - ECPv6.11.2//NONSGML v1.0//EN
CALSCALE:GREGORIAN
METHOD:PUBLISH
X-ORIGINAL-URL:https://stibon.nl
X-WR-CALDESC:Evenementen voor Stibon
REFRESH-INTERVAL;VALUE=DURATION:PT1H
X-Robots-Tag:noindex
X-PUBLISHED-TTL:PT1H
BEGIN:VTIMEZONE
TZID:Europe/Amsterdam
BEGIN:DAYLIGHT
TZOFFSETFROM:+0100
TZOFFSETTO:+0200
TZNAME:CEST
DTSTART:20240331T010000
END:DAYLIGHT
BEGIN:STANDARD
TZOFFSETFROM:+0200
TZOFFSETTO:+0100
TZNAME:CET
DTSTART:20241027T010000
END:STANDARD
END:VTIMEZONE
BEGIN:VEVENT
DTSTART;TZID=Europe/Amsterdam:20240115T090000
DTEND;TZID=Europe/Amsterdam:20240115T180000
DTSTAMP:20260421T124422
CREATED:20231023T115448Z
LAST-MODIFIED:20240102T130631Z
UID:15617-1705309200-1705341600@stibon.nl
SUMMARY:Les 7: Brouwen van het StiBON bier
DESCRIPTION:Docent: Bas Jacob \nAmsterdam Niveau 2 NJ2023
URL:https://stibon.nl/event/les-7-brouwen-van-het-stibon-bier-13/
LOCATION:Gulpener Brouwlokaal\, Rijksweg 19A\, Gulpen\, 6271AB
CATEGORIES:Amsterdam,StiBON Bierambassadeur 2
ATTACH;FMTTYPE=image/jpeg:https://stibon.nl/app/uploads/2020/10/Foto-Bas-Jacob-Gulpener1.jpg
END:VEVENT
BEGIN:VEVENT
DTSTART;TZID=Europe/Amsterdam:20240129T183000
DTEND;TZID=Europe/Amsterdam:20240129T223000
DTSTAMP:20260421T124422
CREATED:20231023T115701Z
LAST-MODIFIED:20231023T115701Z
UID:15620-1706553000-1706567400@stibon.nl
SUMMARY:Les 8: Bierassortiment\, proefnotities schrijven\, bier & kaas
DESCRIPTION:Docenten: Rob Alphenaar en Arvid Bergström
URL:https://stibon.nl/event/les-8-bierassortiment-proefnotities-schrijven-bier-kaas/
LOCATION:De Biertuin Centrum\, Prinsengracht 494 \, Amsterdam\, 1017 KH\, Nederland
CATEGORIES:Amsterdam,StiBON Bierambassadeur 2
ATTACH;FMTTYPE=image/jpeg:https://stibon.nl/app/uploads/2021/08/Rob-Alphenaar-1.jpg
END:VEVENT
END:VCALENDAR