BEGIN:VCALENDAR
VERSION:2.0
PRODID:-//Stibon - ECPv6.11.2//NONSGML v1.0//EN
CALSCALE:GREGORIAN
METHOD:PUBLISH
X-ORIGINAL-URL:https://stibon.nl
X-WR-CALDESC:Evenementen voor Stibon
REFRESH-INTERVAL;VALUE=DURATION:PT1H
X-Robots-Tag:noindex
X-PUBLISHED-TTL:PT1H
BEGIN:VTIMEZONE
TZID:Europe/Amsterdam
BEGIN:DAYLIGHT
TZOFFSETFROM:+0100
TZOFFSETTO:+0200
TZNAME:CEST
DTSTART:20210328T010000
END:DAYLIGHT
BEGIN:STANDARD
TZOFFSETFROM:+0200
TZOFFSETTO:+0100
TZNAME:CET
DTSTART:20211031T010000
END:STANDARD
END:VTIMEZONE
BEGIN:VEVENT
DTSTART;TZID=Europe/Amsterdam:20210607T183000
DTEND;TZID=Europe/Amsterdam:20210607T220000
DTSTAMP:20260423T133919
CREATED:20200610T183616Z
LAST-MODIFIED:20210607T122156Z
UID:1188-1623090600-1623103200@stibon.nl
SUMMARY:Les 3: Historie\, Trends en bier & gezondheid
DESCRIPTION:Docent: Bart van Kleef
URL:https://stibon.nl/event/les-3-bierambassadeur-1-amsterdam-historie-trends-en-bier-gezondheid/
LOCATION:ANNAkerk Amstelveen\, Amsterdamseweg 22\, \, Amstelveen\, 1182 HD
CATEGORIES:Amsterdam,StiBON Bierambassadeur 1
ATTACH;FMTTYPE=image/png:https://stibon.nl/app/uploads/2020/04/IMG_1168-e1554109699577-204x174-1.png
END:VEVENT
BEGIN:VEVENT
DTSTART;TZID=Europe/Amsterdam:20210614T183000
DTEND;TZID=Europe/Amsterdam:20210614T220000
DTSTAMP:20260423T133919
CREATED:20200610T184014Z
LAST-MODIFIED:20210514T071800Z
UID:1190-1623695400-1623708000@stibon.nl
SUMMARY:Les 5: Bierbehandeling en Opslag
DESCRIPTION:Docent: Bas Schampers
URL:https://stibon.nl/event/les-5-bierambassadeur-1-amsterdam-bierbehandeling-en-opslag/
LOCATION:ANNAkerk Amstelveen\, Amsterdamseweg 22\, Amstelveen\, Nederland
CATEGORIES:Amsterdam,StiBON Bierambassadeur 1
ATTACH;FMTTYPE=image/jpeg:https://stibon.nl/app/uploads/2020/04/Abbey-04-1-204x174-1.jpg
END:VEVENT
BEGIN:VEVENT
DTSTART;TZID=Europe/Amsterdam:20210614T183000
DTEND;TZID=Europe/Amsterdam:20210614T220000
DTSTAMP:20260423T133919
CREATED:20200703T123810Z
LAST-MODIFIED:20210317T075854Z
UID:1910-1623695400-1623708000@stibon.nl
SUMMARY:Les 6: Gist
DESCRIPTION:Docent: André van der Zee
URL:https://stibon.nl/event/les-6-gist/
LOCATION:Waalse Kerk\, Walenpleintje 157 \, Amsterdam\, 1012JZ
CATEGORIES:Amsterdam,StiBON Bierambassadeur 2
ATTACH;FMTTYPE=image/jpeg:https://stibon.nl/app/uploads/2020/10/2018-AZ-Groningen3-e1645092009337.jpg
END:VEVENT
BEGIN:VEVENT
DTSTART;TZID=Europe/Amsterdam:20210621T183000
DTEND;TZID=Europe/Amsterdam:20210621T220000
DTSTAMP:20260423T133919
CREATED:20200611T143029Z
LAST-MODIFIED:20210514T072405Z
UID:1180-1624300200-1624312800@stibon.nl
SUMMARY:Les 4: Brouwproces
DESCRIPTION:Docent: Fer Kok
URL:https://stibon.nl/event/les-4-bierambassadeur-1-amsterdam-brouwproces/
LOCATION:Brouwerij de Prael\, Oudezijds Armsteeg 26 \, Amsterdam\, 1012 GP
CATEGORIES:Amsterdam,StiBON Bierambassadeur 1
ATTACH;FMTTYPE=image/jpeg:https://stibon.nl/app/uploads/2020/06/images-1-1.jpg
END:VEVENT
BEGIN:VEVENT
DTSTART;TZID=Europe/Amsterdam:20210621T183000
DTEND;TZID=Europe/Amsterdam:20210621T220000
DTSTAMP:20260423T133919
CREATED:20200614T153938Z
LAST-MODIFIED:20210621T095030Z
UID:1185-1624300200-1624312800@stibon.nl
SUMMARY:Les 2: Grondstoffen\, wetgeving en sociale hygiëne
DESCRIPTION:Docent: Yu Mey Kwee
URL:https://stibon.nl/event/les-2-bierambassadeur-1-amsterdam-grondstoffen-wetgeving-en-sociale-hygiene/
LOCATION:Brouwerij de Prael\, Oudezijds Armsteeg 26 \, Amsterdam\, 1012 GP
CATEGORIES:Amsterdam,StiBON Bierambassadeur 1
ATTACH;FMTTYPE=image/jpeg:https://stibon.nl/app/uploads/2020/04/Brand-1-204x174-1.jpg
END:VEVENT
BEGIN:VEVENT
DTSTART;TZID=Europe/Amsterdam:20210621T183000
DTEND;TZID=Europe/Amsterdam:20210621T220000
DTSTAMP:20260423T133919
CREATED:20200703T113415Z
LAST-MODIFIED:20210422T101644Z
UID:1899-1624300200-1624312800@stibon.nl
SUMMARY:Les 3: Trends en bierfolklore.
DESCRIPTION:Docent: Henri Reuchlin
URL:https://stibon.nl/event/les-3-trends-en-bierfolklore/
LOCATION:Waalse Kerk\, Walenpleintje 157 \, Amsterdam\, 1012JZ
CATEGORIES:Amsterdam,StiBON Bierambassadeur 2
ATTACH;FMTTYPE=image/jpeg:https://stibon.nl/app/uploads/2020/09/henri-1-e1645090149940.jpg
END:VEVENT
BEGIN:VEVENT
DTSTART;TZID=Europe/Amsterdam:20210628T183000
DTEND;TZID=Europe/Amsterdam:20210628T220000
DTSTAMP:20260423T133919
CREATED:20200901T185526Z
LAST-MODIFIED:20210609T133745Z
UID:2642-1624905000-1624917600@stibon.nl
SUMMARY:Les 4:  Invloed van kruiden\, specerijen en hop op de smaak van het bier.
DESCRIPTION:Docent: Jan Willem den Hartog
URL:https://stibon.nl/event/les-4-invloed-van-kruiden-specerijen-en-hop-op-de-smaak-van-het-bier-4/
LOCATION:Waalse Kerk\, Walenpleintje 157 \, Amsterdam\, 1012JZ
CATEGORIES:Amsterdam,StiBON Bierambassadeur 2
ATTACH;FMTTYPE=image/jpeg:https://stibon.nl/app/uploads/2020/10/Hop-hop-en-nog-eens-hop-in-Reijmerstok4-e1645092263816.jpg
END:VEVENT
BEGIN:VEVENT
DTSTART;TZID=Europe/Amsterdam:20210628T183000
DTEND;TZID=Europe/Amsterdam:20210628T220000
DTSTAMP:20260423T133919
CREATED:20201015T150922Z
LAST-MODIFIED:20210422T112232Z
UID:3331-1624905000-1624917600@stibon.nl
SUMMARY:Les 6: Bier aan tafel
DESCRIPTION:Docent: Pepijn van der Waa
URL:https://stibon.nl/event/les-6-bier-aan-tafel-2/
LOCATION:ANNAkerk Amstelveen\, Amsterdamseweg 22\, \, Amstelveen\, 1182 HD
CATEGORIES:Amsterdam,StiBON Bierambassadeur 1
ATTACH;FMTTYPE=image/jpeg:https://stibon.nl/app/uploads/2020/04/Pepijn-van-der-Waa-204x174-1.jpg
END:VEVENT
END:VCALENDAR